BEGIN:VCALENDAR
VERSION:2.0
PRODID:-//Southeast Gwinnett Cooperative Ministry - ECPv6.15.20//NONSGML v1.0//EN
CALSCALE:GREGORIAN
METHOD:PUBLISH
X-WR-CALNAME:Southeast Gwinnett Cooperative Ministry
X-ORIGINAL-URL:https://segwinnettcoop.org
X-WR-CALDESC:Events for Southeast Gwinnett Cooperative Ministry
REFRESH-INTERVAL;VALUE=DURATION:PT1H
X-Robots-Tag:noindex
X-PUBLISHED-TTL:PT1H
BEGIN:VTIMEZONE
TZID:America/New_York
BEGIN:DAYLIGHT
TZOFFSETFROM:-0500
TZOFFSETTO:-0400
TZNAME:EDT
DTSTART:20240310T070000
END:DAYLIGHT
BEGIN:STANDARD
TZOFFSETFROM:-0400
TZOFFSETTO:-0500
TZNAME:EST
DTSTART:20241103T060000
END:STANDARD
BEGIN:DAYLIGHT
TZOFFSETFROM:-0500
TZOFFSETTO:-0400
TZNAME:EDT
DTSTART:20250309T070000
END:DAYLIGHT
BEGIN:STANDARD
TZOFFSETFROM:-0400
TZOFFSETTO:-0500
TZNAME:EST
DTSTART:20251102T060000
END:STANDARD
BEGIN:DAYLIGHT
TZOFFSETFROM:-0500
TZOFFSETTO:-0400
TZNAME:EDT
DTSTART:20260308T070000
END:DAYLIGHT
BEGIN:STANDARD
TZOFFSETFROM:-0400
TZOFFSETTO:-0500
TZNAME:EST
DTSTART:20261101T060000
END:STANDARD
END:VTIMEZONE
BEGIN:VEVENT
DTSTART;VALUE=DATE:20251125
DTEND;VALUE=DATE:20251126
DTSTAMP:20260424T234324
CREATED:20250811T222843Z
LAST-MODIFIED:20250811T230215Z
UID:10003699-1764057600-1764090000@segwinnettcoop.org
SUMMARY:Closed
DESCRIPTION:
URL:https://segwinnettcoop.org/event/closed-4/2025-11-25/
LOCATION:Southeast Gwinnett Coop\, 55 Grayson Industrial Parkway\, Grayson\, GA\, 30017\, United States
CATEGORIES:Pantry
ORGANIZER;CN="Southeast Gwinnett Coop":MAILTO:info@segwinnettcoop.org
END:VEVENT
BEGIN:VEVENT
DTSTART;TZID=America/New_York:20251124T150000
DTEND;TZID=America/New_York:20251124T190000
DTSTAMP:20260424T234324
CREATED:20250811T231138Z
LAST-MODIFIED:20250811T231139Z
UID:10003949-1763996400-1764010800@segwinnettcoop.org
SUMMARY:Pantry Assistance
DESCRIPTION:Please bring a picture id and a current piece of mail.  We are first come / first serve.
URL:https://segwinnettcoop.org/event/pantry-assistance-4/2025-11-24/
LOCATION:Southeast Gwinnett Coop\, 55 Grayson Industrial Parkway\, Grayson\, GA\, 30017\, United States
CATEGORIES:Pantry
ORGANIZER;CN="Southeast Gwinnett Coop":MAILTO:info@segwinnettcoop.org
END:VEVENT
BEGIN:VEVENT
DTSTART;TZID=America/New_York:20251124T100000
DTEND;TZID=America/New_York:20251124T120000
DTSTAMP:20260424T234324
CREATED:20250811T230800Z
LAST-MODIFIED:20250811T230801Z
UID:10001751-1763978400-1763985600@segwinnettcoop.org
SUMMARY:Donations Accepted
DESCRIPTION:
URL:https://segwinnettcoop.org/event/donations-accepted-2/2025-11-24/
LOCATION:Southeast Gwinnett Coop\, 55 Grayson Industrial Parkway\, Grayson\, GA\, 30017\, United States
CATEGORIES:Donations
ORGANIZER;CN="Southeast Gwinnett Coop":MAILTO:info@segwinnettcoop.org
END:VEVENT
BEGIN:VEVENT
DTSTART;TZID=America/New_York:20251122T100000
DTEND;TZID=America/New_York:20251122T120000
DTSTAMP:20260424T234324
CREATED:20250811T230800Z
LAST-MODIFIED:20250811T230801Z
UID:10001750-1763805600-1763812800@segwinnettcoop.org
SUMMARY:Donations Accepted
DESCRIPTION:
URL:https://segwinnettcoop.org/event/donations-accepted-2/2025-11-22/
LOCATION:Southeast Gwinnett Coop\, 55 Grayson Industrial Parkway\, Grayson\, GA\, 30017\, United States
CATEGORIES:Donations
ORGANIZER;CN="Southeast Gwinnett Coop":MAILTO:info@segwinnettcoop.org
END:VEVENT
BEGIN:VEVENT
DTSTART;TZID=America/New_York:20251121T090000
DTEND;TZID=America/New_York:20251121T120000
DTSTAMP:20260424T234324
CREATED:20250811T225438Z
LAST-MODIFIED:20250811T231711Z
UID:10004470-1763715600-1763726400@segwinnettcoop.org
SUMMARY:Pantry Assistance
DESCRIPTION:Please bring a current piece of mail.  We are first come / first serve.
URL:https://segwinnettcoop.org/event/pantry-assistance-3/2025-11-21/
LOCATION:GA
CATEGORIES:Pantry
END:VEVENT
BEGIN:VEVENT
DTSTART;TZID=America/New_York:20251120T100000
DTEND;TZID=America/New_York:20251120T120000
DTSTAMP:20260424T234324
CREATED:20250811T230800Z
LAST-MODIFIED:20250811T230801Z
UID:10001749-1763632800-1763640000@segwinnettcoop.org
SUMMARY:Donations Accepted
DESCRIPTION:
URL:https://segwinnettcoop.org/event/donations-accepted-2/2025-11-20/
LOCATION:Southeast Gwinnett Coop\, 55 Grayson Industrial Parkway\, Grayson\, GA\, 30017\, United States
CATEGORIES:Donations
ORGANIZER;CN="Southeast Gwinnett Coop":MAILTO:info@segwinnettcoop.org
END:VEVENT
BEGIN:VEVENT
DTSTART;TZID=America/New_York:20251119T090000
DTEND;TZID=America/New_York:20251119T120000
DTSTAMP:20260424T234324
CREATED:20250811T225134Z
LAST-MODIFIED:20250811T231631Z
UID:10004209-1763542800-1763553600@segwinnettcoop.org
SUMMARY:Pantry Assistance
DESCRIPTION:Please bring a picture id and a current piece of mail.  We are first come / first serve.
URL:https://segwinnettcoop.org/event/pantry-assistance-2/2025-11-19/
LOCATION:GA
CATEGORIES:Pantry
END:VEVENT
BEGIN:VEVENT
DTSTART;TZID=America/New_York:20251118T100000
DTEND;TZID=America/New_York:20251118T120000
DTSTAMP:20260424T234324
CREATED:20250811T230800Z
LAST-MODIFIED:20250811T230801Z
UID:10001748-1763460000-1763467200@segwinnettcoop.org
SUMMARY:Donations Accepted
DESCRIPTION:
URL:https://segwinnettcoop.org/event/donations-accepted-2/2025-11-18/
LOCATION:Southeast Gwinnett Coop\, 55 Grayson Industrial Parkway\, Grayson\, GA\, 30017\, United States
CATEGORIES:Donations
ORGANIZER;CN="Southeast Gwinnett Coop":MAILTO:info@segwinnettcoop.org
END:VEVENT
BEGIN:VEVENT
DTSTART;TZID=America/New_York:20251117T150000
DTEND;TZID=America/New_York:20251117T190000
DTSTAMP:20260424T234324
CREATED:20250811T231138Z
LAST-MODIFIED:20250811T231139Z
UID:10003948-1763391600-1763406000@segwinnettcoop.org
SUMMARY:Pantry Assistance
DESCRIPTION:Please bring a picture id and a current piece of mail.  We are first come / first serve.
URL:https://segwinnettcoop.org/event/pantry-assistance-4/2025-11-17/
LOCATION:Southeast Gwinnett Coop\, 55 Grayson Industrial Parkway\, Grayson\, GA\, 30017\, United States
CATEGORIES:Pantry
ORGANIZER;CN="Southeast Gwinnett Coop":MAILTO:info@segwinnettcoop.org
END:VEVENT
BEGIN:VEVENT
DTSTART;TZID=America/New_York:20251117T100000
DTEND;TZID=America/New_York:20251117T120000
DTSTAMP:20260424T234324
CREATED:20250811T230800Z
LAST-MODIFIED:20250811T230801Z
UID:10001747-1763373600-1763380800@segwinnettcoop.org
SUMMARY:Donations Accepted
DESCRIPTION:
URL:https://segwinnettcoop.org/event/donations-accepted-2/2025-11-17/
LOCATION:Southeast Gwinnett Coop\, 55 Grayson Industrial Parkway\, Grayson\, GA\, 30017\, United States
CATEGORIES:Donations
ORGANIZER;CN="Southeast Gwinnett Coop":MAILTO:info@segwinnettcoop.org
END:VEVENT
BEGIN:VEVENT
DTSTART;TZID=America/New_York:20251115T160000
DTEND;TZID=America/New_York:20251115T180000
DTSTAMP:20260424T234324
CREATED:20250811T220046Z
LAST-MODIFIED:20250811T221718Z
UID:10003225-1763222400-1763229600@segwinnettcoop.org
SUMMARY:Gather at Table Community Dinner
DESCRIPTION:Enjoy free food\, music\, and a message of HOPE.
URL:https://segwinnettcoop.org/event/gather-at-table-community-dinner-2/2025-11-15/
LOCATION:Southeast Gwinnett Coop\, 55 Grayson Industrial Parkway\, Grayson\, GA\, 30017\, United States
CATEGORIES:Community,Fellowship,Worship
END:VEVENT
BEGIN:VEVENT
DTSTART;TZID=America/New_York:20251115T100000
DTEND;TZID=America/New_York:20251115T120000
DTSTAMP:20260424T234325
CREATED:20250811T230800Z
LAST-MODIFIED:20250811T230801Z
UID:10001746-1763200800-1763208000@segwinnettcoop.org
SUMMARY:Donations Accepted
DESCRIPTION:
URL:https://segwinnettcoop.org/event/donations-accepted-2/2025-11-15/
LOCATION:Southeast Gwinnett Coop\, 55 Grayson Industrial Parkway\, Grayson\, GA\, 30017\, United States
CATEGORIES:Donations
ORGANIZER;CN="Southeast Gwinnett Coop":MAILTO:info@segwinnettcoop.org
END:VEVENT
BEGIN:VEVENT
DTSTART;TZID=America/New_York:20251114T090000
DTEND;TZID=America/New_York:20251114T120000
DTSTAMP:20260424T234325
CREATED:20250811T225438Z
LAST-MODIFIED:20250811T231711Z
UID:10004469-1763110800-1763121600@segwinnettcoop.org
SUMMARY:Pantry Assistance
DESCRIPTION:Please bring a current piece of mail.  We are first come / first serve.
URL:https://segwinnettcoop.org/event/pantry-assistance-3/2025-11-14/
LOCATION:GA
CATEGORIES:Pantry
END:VEVENT
BEGIN:VEVENT
DTSTART;TZID=America/New_York:20251114T090000
DTEND;TZID=America/New_York:20251114T120000
DTSTAMP:20260424T234325
CREATED:20230518T224922Z
LAST-MODIFIED:20230609T161531Z
UID:10002718-1763110800-1763121600@segwinnettcoop.org
SUMMARY:Benefits Outreach
DESCRIPTION:Sponsored by Atlanta Community Food Bank\nAre You Eligible? \n\nFood Stamps\nMedicaid Assistance\nTANF\nWIC\nCAPS\nSpecial Help for Medicare Recipients\n\nDocuments to Bring: \nPhoto ID\, Birth Certificate\, Lease\, Award Letter for Social Security and/or S.S.I.\, and other unearned inform\, Pay Stubs for the last month (if applicable)\, Utility Bills\, and any Medical Bills.
URL:https://segwinnettcoop.org/event/benefits-outreach-2/2025-11-14/
LOCATION:Southeast Gwinnett Coop\, 55 Grayson Industrial Parkway\, Grayson\, GA\, 30017\, United States
CATEGORIES:Benefits and Informational
ORGANIZER;CN="Atlanta Community Food Bank":MAILTO:outreach@acfb.org
END:VEVENT
BEGIN:VEVENT
DTSTART;TZID=America/New_York:20251113T100000
DTEND;TZID=America/New_York:20251113T120000
DTSTAMP:20260424T234325
CREATED:20250811T230800Z
LAST-MODIFIED:20250811T230801Z
UID:10001745-1763028000-1763035200@segwinnettcoop.org
SUMMARY:Donations Accepted
DESCRIPTION:
URL:https://segwinnettcoop.org/event/donations-accepted-2/2025-11-13/
LOCATION:Southeast Gwinnett Coop\, 55 Grayson Industrial Parkway\, Grayson\, GA\, 30017\, United States
CATEGORIES:Donations
ORGANIZER;CN="Southeast Gwinnett Coop":MAILTO:info@segwinnettcoop.org
END:VEVENT
BEGIN:VEVENT
DTSTART;TZID=America/New_York:20251112T090000
DTEND;TZID=America/New_York:20251112T120000
DTSTAMP:20260424T234325
CREATED:20250811T225134Z
LAST-MODIFIED:20250811T231631Z
UID:10004208-1762938000-1762948800@segwinnettcoop.org
SUMMARY:Pantry Assistance
DESCRIPTION:Please bring a picture id and a current piece of mail.  We are first come / first serve.
URL:https://segwinnettcoop.org/event/pantry-assistance-2/2025-11-12/
LOCATION:GA
CATEGORIES:Pantry
END:VEVENT
BEGIN:VEVENT
DTSTART;TZID=America/New_York:20251111T100000
DTEND;TZID=America/New_York:20251111T120000
DTSTAMP:20260424T234325
CREATED:20250811T230800Z
LAST-MODIFIED:20250811T230801Z
UID:10001744-1762855200-1762862400@segwinnettcoop.org
SUMMARY:Donations Accepted
DESCRIPTION:
URL:https://segwinnettcoop.org/event/donations-accepted-2/2025-11-11/
LOCATION:Southeast Gwinnett Coop\, 55 Grayson Industrial Parkway\, Grayson\, GA\, 30017\, United States
CATEGORIES:Donations
ORGANIZER;CN="Southeast Gwinnett Coop":MAILTO:info@segwinnettcoop.org
END:VEVENT
BEGIN:VEVENT
DTSTART;TZID=America/New_York:20251110T180000
DTEND;TZID=America/New_York:20251110T193000
DTSTAMP:20260424T234325
CREATED:20250113T203025Z
LAST-MODIFIED:20250113T203025Z
UID:10003219-1762797600-1762803000@segwinnettcoop.org
SUMMARY:Volunteer Orientation
DESCRIPTION:All Court Ordered Community Service Workers must be pre-approved.  Call 770 985-5229 x102 for more information on Court Order Community Service requirements. \nFor Individual and Group Volunteer opportunities please call 770 985-5229 x106 \n  \n  \n  \n 
URL:https://segwinnettcoop.org/event/volunteer-orientation/2025-11-10/
LOCATION:Greene Room inside Southeast Gwinnett Coop\, 55 Grayson Industrial Parkway\, Grayson\, 30017\, United States
END:VEVENT
BEGIN:VEVENT
DTSTART;TZID=America/New_York:20251110T150000
DTEND;TZID=America/New_York:20251110T190000
DTSTAMP:20260424T234325
CREATED:20250811T231138Z
LAST-MODIFIED:20250811T231139Z
UID:10003947-1762786800-1762801200@segwinnettcoop.org
SUMMARY:Pantry Assistance
DESCRIPTION:Please bring a picture id and a current piece of mail.  We are first come / first serve.
URL:https://segwinnettcoop.org/event/pantry-assistance-4/2025-11-10/
LOCATION:Southeast Gwinnett Coop\, 55 Grayson Industrial Parkway\, Grayson\, GA\, 30017\, United States
CATEGORIES:Pantry
ORGANIZER;CN="Southeast Gwinnett Coop":MAILTO:info@segwinnettcoop.org
END:VEVENT
BEGIN:VEVENT
DTSTART;TZID=America/New_York:20251110T100000
DTEND;TZID=America/New_York:20251110T120000
DTSTAMP:20260424T234325
CREATED:20250811T230800Z
LAST-MODIFIED:20250811T230801Z
UID:10001743-1762768800-1762776000@segwinnettcoop.org
SUMMARY:Donations Accepted
DESCRIPTION:
URL:https://segwinnettcoop.org/event/donations-accepted-2/2025-11-10/
LOCATION:Southeast Gwinnett Coop\, 55 Grayson Industrial Parkway\, Grayson\, GA\, 30017\, United States
CATEGORIES:Donations
ORGANIZER;CN="Southeast Gwinnett Coop":MAILTO:info@segwinnettcoop.org
END:VEVENT
BEGIN:VEVENT
DTSTART;TZID=America/New_York:20251108T100000
DTEND;TZID=America/New_York:20251108T120000
DTSTAMP:20260424T234325
CREATED:20250811T230800Z
LAST-MODIFIED:20250811T230801Z
UID:10001742-1762596000-1762603200@segwinnettcoop.org
SUMMARY:Donations Accepted
DESCRIPTION:
URL:https://segwinnettcoop.org/event/donations-accepted-2/2025-11-08/
LOCATION:Southeast Gwinnett Coop\, 55 Grayson Industrial Parkway\, Grayson\, GA\, 30017\, United States
CATEGORIES:Donations
ORGANIZER;CN="Southeast Gwinnett Coop":MAILTO:info@segwinnettcoop.org
END:VEVENT
BEGIN:VEVENT
DTSTART;TZID=America/New_York:20251107T090000
DTEND;TZID=America/New_York:20251107T120000
DTSTAMP:20260424T234325
CREATED:20250811T225438Z
LAST-MODIFIED:20250811T231711Z
UID:10004468-1762506000-1762516800@segwinnettcoop.org
SUMMARY:Pantry Assistance
DESCRIPTION:Please bring a current piece of mail.  We are first come / first serve.
URL:https://segwinnettcoop.org/event/pantry-assistance-3/2025-11-07/
LOCATION:GA
CATEGORIES:Pantry
END:VEVENT
BEGIN:VEVENT
DTSTART;TZID=America/New_York:20251106T100000
DTEND;TZID=America/New_York:20251106T120000
DTSTAMP:20260424T234325
CREATED:20250811T230800Z
LAST-MODIFIED:20250811T230801Z
UID:10001741-1762423200-1762430400@segwinnettcoop.org
SUMMARY:Donations Accepted
DESCRIPTION:
URL:https://segwinnettcoop.org/event/donations-accepted-2/2025-11-06/
LOCATION:Southeast Gwinnett Coop\, 55 Grayson Industrial Parkway\, Grayson\, GA\, 30017\, United States
CATEGORIES:Donations
ORGANIZER;CN="Southeast Gwinnett Coop":MAILTO:info@segwinnettcoop.org
END:VEVENT
BEGIN:VEVENT
DTSTART;TZID=America/New_York:20251105T090000
DTEND;TZID=America/New_York:20251105T120000
DTSTAMP:20260424T234325
CREATED:20250811T225134Z
LAST-MODIFIED:20250811T231631Z
UID:10004207-1762333200-1762344000@segwinnettcoop.org
SUMMARY:Pantry Assistance
DESCRIPTION:Please bring a picture id and a current piece of mail.  We are first come / first serve.
URL:https://segwinnettcoop.org/event/pantry-assistance-2/2025-11-05/
LOCATION:GA
CATEGORIES:Pantry
END:VEVENT
BEGIN:VEVENT
DTSTART;TZID=America/New_York:20251104T100000
DTEND;TZID=America/New_York:20251104T120000
DTSTAMP:20260424T234325
CREATED:20250811T230800Z
LAST-MODIFIED:20250811T230801Z
UID:10001740-1762250400-1762257600@segwinnettcoop.org
SUMMARY:Donations Accepted
DESCRIPTION:
URL:https://segwinnettcoop.org/event/donations-accepted-2/2025-11-04/
LOCATION:Southeast Gwinnett Coop\, 55 Grayson Industrial Parkway\, Grayson\, GA\, 30017\, United States
CATEGORIES:Donations
ORGANIZER;CN="Southeast Gwinnett Coop":MAILTO:info@segwinnettcoop.org
END:VEVENT
BEGIN:VEVENT
DTSTART;TZID=America/New_York:20251103T150000
DTEND;TZID=America/New_York:20251103T190000
DTSTAMP:20260424T234325
CREATED:20250811T231138Z
LAST-MODIFIED:20250811T231139Z
UID:10003946-1762182000-1762196400@segwinnettcoop.org
SUMMARY:Pantry Assistance
DESCRIPTION:Please bring a picture id and a current piece of mail.  We are first come / first serve.
URL:https://segwinnettcoop.org/event/pantry-assistance-4/2025-11-03/
LOCATION:Southeast Gwinnett Coop\, 55 Grayson Industrial Parkway\, Grayson\, GA\, 30017\, United States
CATEGORIES:Pantry
ORGANIZER;CN="Southeast Gwinnett Coop":MAILTO:info@segwinnettcoop.org
END:VEVENT
BEGIN:VEVENT
DTSTART;TZID=America/New_York:20251103T100000
DTEND;TZID=America/New_York:20251103T120000
DTSTAMP:20260424T234325
CREATED:20250811T230800Z
LAST-MODIFIED:20250811T230801Z
UID:10001739-1762164000-1762171200@segwinnettcoop.org
SUMMARY:Donations Accepted
DESCRIPTION:
URL:https://segwinnettcoop.org/event/donations-accepted-2/2025-11-03/
LOCATION:Southeast Gwinnett Coop\, 55 Grayson Industrial Parkway\, Grayson\, GA\, 30017\, United States
CATEGORIES:Donations
ORGANIZER;CN="Southeast Gwinnett Coop":MAILTO:info@segwinnettcoop.org
END:VEVENT
BEGIN:VEVENT
DTSTART;TZID=America/New_York:20251101T100000
DTEND;TZID=America/New_York:20251101T120000
DTSTAMP:20260424T234325
CREATED:20250811T230800Z
LAST-MODIFIED:20250811T230801Z
UID:10001738-1761991200-1761998400@segwinnettcoop.org
SUMMARY:Donations Accepted
DESCRIPTION:
URL:https://segwinnettcoop.org/event/donations-accepted-2/2025-11-01/
LOCATION:Southeast Gwinnett Coop\, 55 Grayson Industrial Parkway\, Grayson\, GA\, 30017\, United States
CATEGORIES:Donations
ORGANIZER;CN="Southeast Gwinnett Coop":MAILTO:info@segwinnettcoop.org
END:VEVENT
BEGIN:VEVENT
DTSTART;TZID=America/New_York:20251031T090000
DTEND;TZID=America/New_York:20251031T120000
DTSTAMP:20260424T234325
CREATED:20250811T225438Z
LAST-MODIFIED:20250811T231711Z
UID:10004467-1761901200-1761912000@segwinnettcoop.org
SUMMARY:Pantry Assistance
DESCRIPTION:Please bring a current piece of mail.  We are first come / first serve.
URL:https://segwinnettcoop.org/event/pantry-assistance-3/2025-10-31/
LOCATION:GA
CATEGORIES:Pantry
END:VEVENT
BEGIN:VEVENT
DTSTART;TZID=America/New_York:20251030T100000
DTEND;TZID=America/New_York:20251030T120000
DTSTAMP:20260424T234325
CREATED:20250811T230800Z
LAST-MODIFIED:20250811T230801Z
UID:10001737-1761818400-1761825600@segwinnettcoop.org
SUMMARY:Donations Accepted
DESCRIPTION:
URL:https://segwinnettcoop.org/event/donations-accepted-2/2025-10-30/
LOCATION:Southeast Gwinnett Coop\, 55 Grayson Industrial Parkway\, Grayson\, GA\, 30017\, United States
CATEGORIES:Donations
ORGANIZER;CN="Southeast Gwinnett Coop":MAILTO:info@segwinnettcoop.org
END:VEVENT
END:VCALENDAR