BEGIN:VCALENDAR
VERSION:2.0
PRODID:-//Southeast Gwinnett Cooperative Ministry - ECPv6.15.20//NONSGML v1.0//EN
CALSCALE:GREGORIAN
METHOD:PUBLISH
X-WR-CALNAME:Southeast Gwinnett Cooperative Ministry
X-ORIGINAL-URL:https://segwinnettcoop.org
X-WR-CALDESC:Events for Southeast Gwinnett Cooperative Ministry
REFRESH-INTERVAL;VALUE=DURATION:PT1H
X-Robots-Tag:noindex
X-PUBLISHED-TTL:PT1H
BEGIN:VTIMEZONE
TZID:America/New_York
BEGIN:DAYLIGHT
TZOFFSETFROM:-0500
TZOFFSETTO:-0400
TZNAME:EDT
DTSTART:20240310T070000
END:DAYLIGHT
BEGIN:STANDARD
TZOFFSETFROM:-0400
TZOFFSETTO:-0500
TZNAME:EST
DTSTART:20241103T060000
END:STANDARD
BEGIN:DAYLIGHT
TZOFFSETFROM:-0500
TZOFFSETTO:-0400
TZNAME:EDT
DTSTART:20250309T070000
END:DAYLIGHT
BEGIN:STANDARD
TZOFFSETFROM:-0400
TZOFFSETTO:-0500
TZNAME:EST
DTSTART:20251102T060000
END:STANDARD
BEGIN:DAYLIGHT
TZOFFSETFROM:-0500
TZOFFSETTO:-0400
TZNAME:EDT
DTSTART:20260308T070000
END:DAYLIGHT
BEGIN:STANDARD
TZOFFSETFROM:-0400
TZOFFSETTO:-0500
TZNAME:EST
DTSTART:20261101T060000
END:STANDARD
END:VTIMEZONE
BEGIN:VEVENT
DTSTART;TZID=America/New_York:20250811T180000
DTEND;TZID=America/New_York:20250811T193000
DTSTAMP:20260422T185956
CREATED:20250113T203025Z
LAST-MODIFIED:20250113T203025Z
UID:10003218-1754935200-1754940600@segwinnettcoop.org
SUMMARY:Volunteer Orientation
DESCRIPTION:All Court Ordered Community Service Workers must be pre-approved.  Call 770 985-5229 x102 for more information on Court Order Community Service requirements. \nFor Individual and Group Volunteer opportunities please call 770 985-5229 x106 \n  \n  \n  \n 
URL:https://segwinnettcoop.org/event/volunteer-orientation/2025-08-11/
LOCATION:Greene Room inside Southeast Gwinnett Coop\, 55 Grayson Industrial Parkway\, Grayson\, 30017\, United States
END:VEVENT
BEGIN:VEVENT
DTSTART;TZID=America/New_York:20250812T100000
DTEND;TZID=America/New_York:20250812T120000
DTSTAMP:20260422T185956
CREATED:20250811T230800Z
LAST-MODIFIED:20250811T230801Z
UID:10001692-1754992800-1755000000@segwinnettcoop.org
SUMMARY:Donations Accepted
DESCRIPTION:
URL:https://segwinnettcoop.org/event/donations-accepted-2/2025-08-12/
LOCATION:Southeast Gwinnett Coop\, 55 Grayson Industrial Parkway\, Grayson\, GA\, 30017\, United States
CATEGORIES:Donations
ORGANIZER;CN="Southeast Gwinnett Coop":MAILTO:info@segwinnettcoop.org
END:VEVENT
BEGIN:VEVENT
DTSTART;TZID=America/New_York:20250813T090000
DTEND;TZID=America/New_York:20250813T120000
DTSTAMP:20260422T185956
CREATED:20250811T225134Z
LAST-MODIFIED:20250811T231631Z
UID:10004195-1755075600-1755086400@segwinnettcoop.org
SUMMARY:Pantry Assistance
DESCRIPTION:Please bring a picture id and a current piece of mail.  We are first come / first serve.
URL:https://segwinnettcoop.org/event/pantry-assistance-2/2025-08-13/
LOCATION:GA
CATEGORIES:Pantry
END:VEVENT
BEGIN:VEVENT
DTSTART;TZID=America/New_York:20250814T100000
DTEND;TZID=America/New_York:20250814T120000
DTSTAMP:20260422T185956
CREATED:20250811T230800Z
LAST-MODIFIED:20250811T230801Z
UID:10001693-1755165600-1755172800@segwinnettcoop.org
SUMMARY:Donations Accepted
DESCRIPTION:
URL:https://segwinnettcoop.org/event/donations-accepted-2/2025-08-14/
LOCATION:Southeast Gwinnett Coop\, 55 Grayson Industrial Parkway\, Grayson\, GA\, 30017\, United States
CATEGORIES:Donations
ORGANIZER;CN="Southeast Gwinnett Coop":MAILTO:info@segwinnettcoop.org
END:VEVENT
BEGIN:VEVENT
DTSTART;TZID=America/New_York:20250815T090000
DTEND;TZID=America/New_York:20250815T120000
DTSTAMP:20260422T185956
CREATED:20250811T225438Z
LAST-MODIFIED:20250811T231711Z
UID:10004456-1755248400-1755259200@segwinnettcoop.org
SUMMARY:Pantry Assistance
DESCRIPTION:Please bring a current piece of mail.  We are first come / first serve.
URL:https://segwinnettcoop.org/event/pantry-assistance-3/2025-08-15/
LOCATION:GA
CATEGORIES:Pantry
END:VEVENT
BEGIN:VEVENT
DTSTART;TZID=America/New_York:20250816T100000
DTEND;TZID=America/New_York:20250816T120000
DTSTAMP:20260422T185956
CREATED:20250811T230800Z
LAST-MODIFIED:20250811T230801Z
UID:10001694-1755338400-1755345600@segwinnettcoop.org
SUMMARY:Donations Accepted
DESCRIPTION:
URL:https://segwinnettcoop.org/event/donations-accepted-2/2025-08-16/
LOCATION:Southeast Gwinnett Coop\, 55 Grayson Industrial Parkway\, Grayson\, GA\, 30017\, United States
CATEGORIES:Donations
ORGANIZER;CN="Southeast Gwinnett Coop":MAILTO:info@segwinnettcoop.org
END:VEVENT
BEGIN:VEVENT
DTSTART;TZID=America/New_York:20250816T160000
DTEND;TZID=America/New_York:20250816T180000
DTSTAMP:20260422T185956
CREATED:20250811T220046Z
LAST-MODIFIED:20250811T221718Z
UID:10003222-1755360000-1755367200@segwinnettcoop.org
SUMMARY:Gather at Table Community Dinner
DESCRIPTION:Enjoy free food\, music\, and a message of HOPE.
URL:https://segwinnettcoop.org/event/gather-at-table-community-dinner-2/2025-08-16/
LOCATION:Southeast Gwinnett Coop\, 55 Grayson Industrial Parkway\, Grayson\, GA\, 30017\, United States
CATEGORIES:Community,Fellowship,Worship
END:VEVENT
BEGIN:VEVENT
DTSTART;TZID=America/New_York:20250818T100000
DTEND;TZID=America/New_York:20250818T120000
DTSTAMP:20260422T185956
CREATED:20250811T230800Z
LAST-MODIFIED:20250811T230801Z
UID:10001695-1755511200-1755518400@segwinnettcoop.org
SUMMARY:Donations Accepted
DESCRIPTION:
URL:https://segwinnettcoop.org/event/donations-accepted-2/2025-08-18/
LOCATION:Southeast Gwinnett Coop\, 55 Grayson Industrial Parkway\, Grayson\, GA\, 30017\, United States
CATEGORIES:Donations
ORGANIZER;CN="Southeast Gwinnett Coop":MAILTO:info@segwinnettcoop.org
END:VEVENT
BEGIN:VEVENT
DTSTART;TZID=America/New_York:20250818T150000
DTEND;TZID=America/New_York:20250818T190000
DTSTAMP:20260422T185956
CREATED:20250811T231138Z
LAST-MODIFIED:20250811T231139Z
UID:10003935-1755529200-1755543600@segwinnettcoop.org
SUMMARY:Pantry Assistance
DESCRIPTION:Please bring a picture id and a current piece of mail.  We are first come / first serve.
URL:https://segwinnettcoop.org/event/pantry-assistance-4/2025-08-18/
LOCATION:Southeast Gwinnett Coop\, 55 Grayson Industrial Parkway\, Grayson\, GA\, 30017\, United States
CATEGORIES:Pantry
ORGANIZER;CN="Southeast Gwinnett Coop":MAILTO:info@segwinnettcoop.org
END:VEVENT
BEGIN:VEVENT
DTSTART;TZID=America/New_York:20250819T100000
DTEND;TZID=America/New_York:20250819T120000
DTSTAMP:20260422T185956
CREATED:20250811T230800Z
LAST-MODIFIED:20250811T230801Z
UID:10001696-1755597600-1755604800@segwinnettcoop.org
SUMMARY:Donations Accepted
DESCRIPTION:
URL:https://segwinnettcoop.org/event/donations-accepted-2/2025-08-19/
LOCATION:Southeast Gwinnett Coop\, 55 Grayson Industrial Parkway\, Grayson\, GA\, 30017\, United States
CATEGORIES:Donations
ORGANIZER;CN="Southeast Gwinnett Coop":MAILTO:info@segwinnettcoop.org
END:VEVENT
BEGIN:VEVENT
DTSTART;TZID=America/New_York:20250820T090000
DTEND;TZID=America/New_York:20250820T120000
DTSTAMP:20260422T185956
CREATED:20250811T225134Z
LAST-MODIFIED:20250811T231631Z
UID:10004196-1755680400-1755691200@segwinnettcoop.org
SUMMARY:Pantry Assistance
DESCRIPTION:Please bring a picture id and a current piece of mail.  We are first come / first serve.
URL:https://segwinnettcoop.org/event/pantry-assistance-2/2025-08-20/
LOCATION:GA
CATEGORIES:Pantry
END:VEVENT
BEGIN:VEVENT
DTSTART;TZID=America/New_York:20250821T100000
DTEND;TZID=America/New_York:20250821T120000
DTSTAMP:20260422T185956
CREATED:20250811T230800Z
LAST-MODIFIED:20250811T230801Z
UID:10001697-1755770400-1755777600@segwinnettcoop.org
SUMMARY:Donations Accepted
DESCRIPTION:
URL:https://segwinnettcoop.org/event/donations-accepted-2/2025-08-21/
LOCATION:Southeast Gwinnett Coop\, 55 Grayson Industrial Parkway\, Grayson\, GA\, 30017\, United States
CATEGORIES:Donations
ORGANIZER;CN="Southeast Gwinnett Coop":MAILTO:info@segwinnettcoop.org
END:VEVENT
BEGIN:VEVENT
DTSTART;TZID=America/New_York:20250822T090000
DTEND;TZID=America/New_York:20250822T120000
DTSTAMP:20260422T185956
CREATED:20250811T225438Z
LAST-MODIFIED:20250811T231711Z
UID:10004457-1755853200-1755864000@segwinnettcoop.org
SUMMARY:Pantry Assistance
DESCRIPTION:Please bring a current piece of mail.  We are first come / first serve.
URL:https://segwinnettcoop.org/event/pantry-assistance-3/2025-08-22/
LOCATION:GA
CATEGORIES:Pantry
END:VEVENT
BEGIN:VEVENT
DTSTART;TZID=America/New_York:20250822T090000
DTEND;TZID=America/New_York:20250822T120000
DTSTAMP:20260422T185956
CREATED:20250812T134029Z
LAST-MODIFIED:20250812T134032Z
UID:10002616-1755853200-1755864000@segwinnettcoop.org
SUMMARY:Benefits Outreach
DESCRIPTION:Sponsored by Atlanta Community Food Bank\nAre You Eligible? \n\nFood Stamps\nMedicaid Assistance\nTANF\nWIC\nCAPS\nSpecial Help for Medicare Recipients\n\nDocuments to Bring: \nPhoto ID\, Birth Certificate\, Lease\, Award Letter for Social Security and/or S.S.I.\, and other unearned inform\, Pay Stubs for the last month (if applicable)\, Utility Bills\, and any Medical Bills.
URL:https://segwinnettcoop.org/event/benefits-outreach-2-2-2/2025-08-22/
LOCATION:Southeast Gwinnett Coop\, 55 Grayson Industrial Parkway\, Grayson\, GA\, 30017\, United States
CATEGORIES:Benefits and Informational
ORGANIZER;CN="Atlanta Community Food Bank":MAILTO:outreach@acfb.org
END:VEVENT
BEGIN:VEVENT
DTSTART;TZID=America/New_York:20250823T100000
DTEND;TZID=America/New_York:20250823T120000
DTSTAMP:20260422T185956
CREATED:20250811T230800Z
LAST-MODIFIED:20250811T230801Z
UID:10001698-1755943200-1755950400@segwinnettcoop.org
SUMMARY:Donations Accepted
DESCRIPTION:
URL:https://segwinnettcoop.org/event/donations-accepted-2/2025-08-23/
LOCATION:Southeast Gwinnett Coop\, 55 Grayson Industrial Parkway\, Grayson\, GA\, 30017\, United States
CATEGORIES:Donations
ORGANIZER;CN="Southeast Gwinnett Coop":MAILTO:info@segwinnettcoop.org
END:VEVENT
BEGIN:VEVENT
DTSTART;TZID=America/New_York:20250825T100000
DTEND;TZID=America/New_York:20250825T120000
DTSTAMP:20260422T185956
CREATED:20250811T230800Z
LAST-MODIFIED:20250811T230801Z
UID:10001699-1756116000-1756123200@segwinnettcoop.org
SUMMARY:Donations Accepted
DESCRIPTION:
URL:https://segwinnettcoop.org/event/donations-accepted-2/2025-08-25/
LOCATION:Southeast Gwinnett Coop\, 55 Grayson Industrial Parkway\, Grayson\, GA\, 30017\, United States
CATEGORIES:Donations
ORGANIZER;CN="Southeast Gwinnett Coop":MAILTO:info@segwinnettcoop.org
END:VEVENT
BEGIN:VEVENT
DTSTART;TZID=America/New_York:20250825T150000
DTEND;TZID=America/New_York:20250825T190000
DTSTAMP:20260422T185956
CREATED:20250811T231138Z
LAST-MODIFIED:20250811T231139Z
UID:10003936-1756134000-1756148400@segwinnettcoop.org
SUMMARY:Pantry Assistance
DESCRIPTION:Please bring a picture id and a current piece of mail.  We are first come / first serve.
URL:https://segwinnettcoop.org/event/pantry-assistance-4/2025-08-25/
LOCATION:Southeast Gwinnett Coop\, 55 Grayson Industrial Parkway\, Grayson\, GA\, 30017\, United States
CATEGORIES:Pantry
ORGANIZER;CN="Southeast Gwinnett Coop":MAILTO:info@segwinnettcoop.org
END:VEVENT
BEGIN:VEVENT
DTSTART;TZID=America/New_York:20250826T100000
DTEND;TZID=America/New_York:20250826T120000
DTSTAMP:20260422T185956
CREATED:20250811T230800Z
LAST-MODIFIED:20250811T230801Z
UID:10001700-1756202400-1756209600@segwinnettcoop.org
SUMMARY:Donations Accepted
DESCRIPTION:
URL:https://segwinnettcoop.org/event/donations-accepted-2/2025-08-26/
LOCATION:Southeast Gwinnett Coop\, 55 Grayson Industrial Parkway\, Grayson\, GA\, 30017\, United States
CATEGORIES:Donations
ORGANIZER;CN="Southeast Gwinnett Coop":MAILTO:info@segwinnettcoop.org
END:VEVENT
BEGIN:VEVENT
DTSTART;TZID=America/New_York:20250827T090000
DTEND;TZID=America/New_York:20250827T120000
DTSTAMP:20260422T185956
CREATED:20250811T225134Z
LAST-MODIFIED:20250811T231631Z
UID:10004197-1756285200-1756296000@segwinnettcoop.org
SUMMARY:Pantry Assistance
DESCRIPTION:Please bring a picture id and a current piece of mail.  We are first come / first serve.
URL:https://segwinnettcoop.org/event/pantry-assistance-2/2025-08-27/
LOCATION:GA
CATEGORIES:Pantry
END:VEVENT
BEGIN:VEVENT
DTSTART;TZID=America/New_York:20250828T100000
DTEND;TZID=America/New_York:20250828T120000
DTSTAMP:20260422T185956
CREATED:20250811T230800Z
LAST-MODIFIED:20250811T230801Z
UID:10001701-1756375200-1756382400@segwinnettcoop.org
SUMMARY:Donations Accepted
DESCRIPTION:
URL:https://segwinnettcoop.org/event/donations-accepted-2/2025-08-28/
LOCATION:Southeast Gwinnett Coop\, 55 Grayson Industrial Parkway\, Grayson\, GA\, 30017\, United States
CATEGORIES:Donations
ORGANIZER;CN="Southeast Gwinnett Coop":MAILTO:info@segwinnettcoop.org
END:VEVENT
BEGIN:VEVENT
DTSTART;TZID=America/New_York:20250829T090000
DTEND;TZID=America/New_York:20250829T120000
DTSTAMP:20260422T185956
CREATED:20250811T225438Z
LAST-MODIFIED:20250811T231711Z
UID:10004458-1756458000-1756468800@segwinnettcoop.org
SUMMARY:Pantry Assistance
DESCRIPTION:Please bring a current piece of mail.  We are first come / first serve.
URL:https://segwinnettcoop.org/event/pantry-assistance-3/2025-08-29/
LOCATION:GA
CATEGORIES:Pantry
END:VEVENT
BEGIN:VEVENT
DTSTART;VALUE=DATE:20250830
DTEND;VALUE=DATE:20250831
DTSTAMP:20260422T185956
CREATED:20250811T222843Z
LAST-MODIFIED:20250811T230215Z
UID:10003695-1756512000-1756598399@segwinnettcoop.org
SUMMARY:Closed
DESCRIPTION:
URL:https://segwinnettcoop.org/event/closed-4/2025-08-30/
LOCATION:Southeast Gwinnett Coop\, 55 Grayson Industrial Parkway\, Grayson\, GA\, 30017\, United States
CATEGORIES:Pantry
ORGANIZER;CN="Southeast Gwinnett Coop":MAILTO:info@segwinnettcoop.org
END:VEVENT
BEGIN:VEVENT
DTSTART;VALUE=DATE:20250901
DTEND;VALUE=DATE:20250902
DTSTAMP:20260422T185956
CREATED:20250811T222843Z
LAST-MODIFIED:20250811T230215Z
UID:10003696-1756713600-1756746000@segwinnettcoop.org
SUMMARY:Closed
DESCRIPTION:
URL:https://segwinnettcoop.org/event/closed-4/2025-09-01/
LOCATION:Southeast Gwinnett Coop\, 55 Grayson Industrial Parkway\, Grayson\, GA\, 30017\, United States
CATEGORIES:Pantry
ORGANIZER;CN="Southeast Gwinnett Coop":MAILTO:info@segwinnettcoop.org
END:VEVENT
BEGIN:VEVENT
DTSTART;TZID=America/New_York:20250902T100000
DTEND;TZID=America/New_York:20250902T120000
DTSTAMP:20260422T185956
CREATED:20250811T230800Z
LAST-MODIFIED:20250811T230801Z
UID:10001704-1756807200-1756814400@segwinnettcoop.org
SUMMARY:Donations Accepted
DESCRIPTION:
URL:https://segwinnettcoop.org/event/donations-accepted-2/2025-09-02/
LOCATION:Southeast Gwinnett Coop\, 55 Grayson Industrial Parkway\, Grayson\, GA\, 30017\, United States
CATEGORIES:Donations
ORGANIZER;CN="Southeast Gwinnett Coop":MAILTO:info@segwinnettcoop.org
END:VEVENT
BEGIN:VEVENT
DTSTART;TZID=America/New_York:20250903T090000
DTEND;TZID=America/New_York:20250903T120000
DTSTAMP:20260422T185956
CREATED:20250811T225134Z
LAST-MODIFIED:20250811T231631Z
UID:10004198-1756890000-1756900800@segwinnettcoop.org
SUMMARY:Pantry Assistance
DESCRIPTION:Please bring a picture id and a current piece of mail.  We are first come / first serve.
URL:https://segwinnettcoop.org/event/pantry-assistance-2/2025-09-03/
LOCATION:GA
CATEGORIES:Pantry
END:VEVENT
BEGIN:VEVENT
DTSTART;TZID=America/New_York:20250904T100000
DTEND;TZID=America/New_York:20250904T120000
DTSTAMP:20260422T185956
CREATED:20250811T230800Z
LAST-MODIFIED:20250811T230801Z
UID:10001705-1756980000-1756987200@segwinnettcoop.org
SUMMARY:Donations Accepted
DESCRIPTION:
URL:https://segwinnettcoop.org/event/donations-accepted-2/2025-09-04/
LOCATION:Southeast Gwinnett Coop\, 55 Grayson Industrial Parkway\, Grayson\, GA\, 30017\, United States
CATEGORIES:Donations
ORGANIZER;CN="Southeast Gwinnett Coop":MAILTO:info@segwinnettcoop.org
END:VEVENT
BEGIN:VEVENT
DTSTART;TZID=America/New_York:20250905T090000
DTEND;TZID=America/New_York:20250905T120000
DTSTAMP:20260422T185956
CREATED:20250811T225438Z
LAST-MODIFIED:20250811T231711Z
UID:10004459-1757062800-1757073600@segwinnettcoop.org
SUMMARY:Pantry Assistance
DESCRIPTION:Please bring a current piece of mail.  We are first come / first serve.
URL:https://segwinnettcoop.org/event/pantry-assistance-3/2025-09-05/
LOCATION:GA
CATEGORIES:Pantry
END:VEVENT
BEGIN:VEVENT
DTSTART;TZID=America/New_York:20250906T100000
DTEND;TZID=America/New_York:20250906T120000
DTSTAMP:20260422T185956
CREATED:20250811T230800Z
LAST-MODIFIED:20250811T230801Z
UID:10001706-1757152800-1757160000@segwinnettcoop.org
SUMMARY:Donations Accepted
DESCRIPTION:
URL:https://segwinnettcoop.org/event/donations-accepted-2/2025-09-06/
LOCATION:Southeast Gwinnett Coop\, 55 Grayson Industrial Parkway\, Grayson\, GA\, 30017\, United States
CATEGORIES:Donations
ORGANIZER;CN="Southeast Gwinnett Coop":MAILTO:info@segwinnettcoop.org
END:VEVENT
BEGIN:VEVENT
DTSTART;TZID=America/New_York:20250908T100000
DTEND;TZID=America/New_York:20250908T120000
DTSTAMP:20260422T185956
CREATED:20250811T230800Z
LAST-MODIFIED:20250811T230801Z
UID:10001707-1757325600-1757332800@segwinnettcoop.org
SUMMARY:Donations Accepted
DESCRIPTION:
URL:https://segwinnettcoop.org/event/donations-accepted-2/2025-09-08/
LOCATION:Southeast Gwinnett Coop\, 55 Grayson Industrial Parkway\, Grayson\, GA\, 30017\, United States
CATEGORIES:Donations
ORGANIZER;CN="Southeast Gwinnett Coop":MAILTO:info@segwinnettcoop.org
END:VEVENT
BEGIN:VEVENT
DTSTART;TZID=America/New_York:20250908T150000
DTEND;TZID=America/New_York:20250908T190000
DTSTAMP:20260422T185956
CREATED:20250811T231138Z
LAST-MODIFIED:20250811T231139Z
UID:10003938-1757343600-1757358000@segwinnettcoop.org
SUMMARY:Pantry Assistance
DESCRIPTION:Please bring a picture id and a current piece of mail.  We are first come / first serve.
URL:https://segwinnettcoop.org/event/pantry-assistance-4/2025-09-08/
LOCATION:Southeast Gwinnett Coop\, 55 Grayson Industrial Parkway\, Grayson\, GA\, 30017\, United States
CATEGORIES:Pantry
ORGANIZER;CN="Southeast Gwinnett Coop":MAILTO:info@segwinnettcoop.org
END:VEVENT
END:VCALENDAR