BEGIN:VCALENDAR
VERSION:2.0
PRODID:-//Southeast Gwinnett Cooperative Ministry - ECPv6.15.20//NONSGML v1.0//EN
CALSCALE:GREGORIAN
METHOD:PUBLISH
X-WR-CALNAME:Southeast Gwinnett Cooperative Ministry
X-ORIGINAL-URL:https://segwinnettcoop.org
X-WR-CALDESC:Events for Southeast Gwinnett Cooperative Ministry
REFRESH-INTERVAL;VALUE=DURATION:PT1H
X-Robots-Tag:noindex
X-PUBLISHED-TTL:PT1H
BEGIN:VTIMEZONE
TZID:America/New_York
BEGIN:DAYLIGHT
TZOFFSETFROM:-0500
TZOFFSETTO:-0400
TZNAME:EDT
DTSTART:20240310T070000
END:DAYLIGHT
BEGIN:STANDARD
TZOFFSETFROM:-0400
TZOFFSETTO:-0500
TZNAME:EST
DTSTART:20241103T060000
END:STANDARD
BEGIN:DAYLIGHT
TZOFFSETFROM:-0500
TZOFFSETTO:-0400
TZNAME:EDT
DTSTART:20250309T070000
END:DAYLIGHT
BEGIN:STANDARD
TZOFFSETFROM:-0400
TZOFFSETTO:-0500
TZNAME:EST
DTSTART:20251102T060000
END:STANDARD
BEGIN:DAYLIGHT
TZOFFSETFROM:-0500
TZOFFSETTO:-0400
TZNAME:EDT
DTSTART:20260308T070000
END:DAYLIGHT
BEGIN:STANDARD
TZOFFSETFROM:-0400
TZOFFSETTO:-0500
TZNAME:EST
DTSTART:20261101T060000
END:STANDARD
END:VTIMEZONE
BEGIN:VEVENT
DTSTART;TZID=America/New_York:20250421T100000
DTEND;TZID=America/New_York:20250421T120000
DTSTAMP:20260422T184123
CREATED:20230519T011046Z
LAST-MODIFIED:20250811T223544Z
UID:10001627-1745229600-1745236800@segwinnettcoop.org
SUMMARY:Donations Accepted
DESCRIPTION:
URL:https://segwinnettcoop.org/event/donations-accepted/2025-04-21/
LOCATION:Southeast Gwinnett Coop\, 55 Grayson Industrial Parkway\, Grayson\, GA\, 30017\, United States
CATEGORIES:Donations
ORGANIZER;CN="Southeast Gwinnett Coop":MAILTO:info@segwinnettcoop.org
END:VEVENT
BEGIN:VEVENT
DTSTART;TZID=America/New_York:20250422T100000
DTEND;TZID=America/New_York:20250422T120000
DTSTAMP:20260422T184123
CREATED:20230519T011046Z
LAST-MODIFIED:20250811T223544Z
UID:10001628-1745316000-1745323200@segwinnettcoop.org
SUMMARY:Donations Accepted
DESCRIPTION:
URL:https://segwinnettcoop.org/event/donations-accepted/2025-04-22/
LOCATION:Southeast Gwinnett Coop\, 55 Grayson Industrial Parkway\, Grayson\, GA\, 30017\, United States
CATEGORIES:Donations
ORGANIZER;CN="Southeast Gwinnett Coop":MAILTO:info@segwinnettcoop.org
END:VEVENT
BEGIN:VEVENT
DTSTART;TZID=America/New_York:20250424T100000
DTEND;TZID=America/New_York:20250424T120000
DTSTAMP:20260422T184123
CREATED:20230519T011046Z
LAST-MODIFIED:20250811T223544Z
UID:10001629-1745488800-1745496000@segwinnettcoop.org
SUMMARY:Donations Accepted
DESCRIPTION:
URL:https://segwinnettcoop.org/event/donations-accepted/2025-04-24/
LOCATION:Southeast Gwinnett Coop\, 55 Grayson Industrial Parkway\, Grayson\, GA\, 30017\, United States
CATEGORIES:Donations
ORGANIZER;CN="Southeast Gwinnett Coop":MAILTO:info@segwinnettcoop.org
END:VEVENT
BEGIN:VEVENT
DTSTART;TZID=America/New_York:20250425T090000
DTEND;TZID=America/New_York:20250425T120000
DTSTAMP:20260422T184123
CREATED:20230609T155940Z
LAST-MODIFIED:20230609T161754Z
UID:10002761-1745571600-1745582400@segwinnettcoop.org
SUMMARY:Benefits Outreach
DESCRIPTION:Sponsored by Atlanta Community Food Bank\nAre You Eligible? \n\nFood Stamps\nMedicaid Assistance\nTANF\nWIC\nCAPS\nSpecial Help for Medicare Recipients\n\nDocuments to Bring: \nPhoto ID\, Birth Certificate\, Lease\, Award Letter for Social Security and/or S.S.I.\, and other unearned inform\, Pay Stubs for the last month (if applicable)\, Utility Bills\, and any Medical Bills.
URL:https://segwinnettcoop.org/event/benefits-outreach-2-2/2025-04-25/
LOCATION:Southeast Gwinnett Coop\, 55 Grayson Industrial Parkway\, Grayson\, GA\, 30017\, United States
CATEGORIES:Benefits and Informational
ORGANIZER;CN="Atlanta Community Food Bank":MAILTO:outreach@acfb.org
END:VEVENT
BEGIN:VEVENT
DTSTART;TZID=America/New_York:20250426T100000
DTEND;TZID=America/New_York:20250426T120000
DTSTAMP:20260422T184123
CREATED:20230519T011046Z
LAST-MODIFIED:20250811T223544Z
UID:10001630-1745661600-1745668800@segwinnettcoop.org
SUMMARY:Donations Accepted
DESCRIPTION:
URL:https://segwinnettcoop.org/event/donations-accepted/2025-04-26/
LOCATION:Southeast Gwinnett Coop\, 55 Grayson Industrial Parkway\, Grayson\, GA\, 30017\, United States
CATEGORIES:Donations
ORGANIZER;CN="Southeast Gwinnett Coop":MAILTO:info@segwinnettcoop.org
END:VEVENT
BEGIN:VEVENT
DTSTART;TZID=America/New_York:20250428T100000
DTEND;TZID=America/New_York:20250428T120000
DTSTAMP:20260422T184123
CREATED:20230519T011046Z
LAST-MODIFIED:20250811T223544Z
UID:10001631-1745834400-1745841600@segwinnettcoop.org
SUMMARY:Donations Accepted
DESCRIPTION:
URL:https://segwinnettcoop.org/event/donations-accepted/2025-04-28/
LOCATION:Southeast Gwinnett Coop\, 55 Grayson Industrial Parkway\, Grayson\, GA\, 30017\, United States
CATEGORIES:Donations
ORGANIZER;CN="Southeast Gwinnett Coop":MAILTO:info@segwinnettcoop.org
END:VEVENT
BEGIN:VEVENT
DTSTART;TZID=America/New_York:20250429T100000
DTEND;TZID=America/New_York:20250429T120000
DTSTAMP:20260422T184123
CREATED:20230519T011046Z
LAST-MODIFIED:20250811T223544Z
UID:10001632-1745920800-1745928000@segwinnettcoop.org
SUMMARY:Donations Accepted
DESCRIPTION:
URL:https://segwinnettcoop.org/event/donations-accepted/2025-04-29/
LOCATION:Southeast Gwinnett Coop\, 55 Grayson Industrial Parkway\, Grayson\, GA\, 30017\, United States
CATEGORIES:Donations
ORGANIZER;CN="Southeast Gwinnett Coop":MAILTO:info@segwinnettcoop.org
END:VEVENT
BEGIN:VEVENT
DTSTART;TZID=America/New_York:20250501T100000
DTEND;TZID=America/New_York:20250501T120000
DTSTAMP:20260422T184123
CREATED:20230519T011046Z
LAST-MODIFIED:20250811T223544Z
UID:10001633-1746093600-1746100800@segwinnettcoop.org
SUMMARY:Donations Accepted
DESCRIPTION:
URL:https://segwinnettcoop.org/event/donations-accepted/2025-05-01/
LOCATION:Southeast Gwinnett Coop\, 55 Grayson Industrial Parkway\, Grayson\, GA\, 30017\, United States
CATEGORIES:Donations
ORGANIZER;CN="Southeast Gwinnett Coop":MAILTO:info@segwinnettcoop.org
END:VEVENT
BEGIN:VEVENT
DTSTART;TZID=America/New_York:20250503T100000
DTEND;TZID=America/New_York:20250503T120000
DTSTAMP:20260422T184123
CREATED:20230519T011046Z
LAST-MODIFIED:20250811T223544Z
UID:10001634-1746266400-1746273600@segwinnettcoop.org
SUMMARY:Donations Accepted
DESCRIPTION:
URL:https://segwinnettcoop.org/event/donations-accepted/2025-05-03/
LOCATION:Southeast Gwinnett Coop\, 55 Grayson Industrial Parkway\, Grayson\, GA\, 30017\, United States
CATEGORIES:Donations
ORGANIZER;CN="Southeast Gwinnett Coop":MAILTO:info@segwinnettcoop.org
END:VEVENT
BEGIN:VEVENT
DTSTART;TZID=America/New_York:20250505T100000
DTEND;TZID=America/New_York:20250505T120000
DTSTAMP:20260422T184123
CREATED:20230519T011046Z
LAST-MODIFIED:20250811T223544Z
UID:10001635-1746439200-1746446400@segwinnettcoop.org
SUMMARY:Donations Accepted
DESCRIPTION:
URL:https://segwinnettcoop.org/event/donations-accepted/2025-05-05/
LOCATION:Southeast Gwinnett Coop\, 55 Grayson Industrial Parkway\, Grayson\, GA\, 30017\, United States
CATEGORIES:Donations
ORGANIZER;CN="Southeast Gwinnett Coop":MAILTO:info@segwinnettcoop.org
END:VEVENT
BEGIN:VEVENT
DTSTART;TZID=America/New_York:20250506T100000
DTEND;TZID=America/New_York:20250506T120000
DTSTAMP:20260422T184123
CREATED:20230519T011046Z
LAST-MODIFIED:20250811T223544Z
UID:10001636-1746525600-1746532800@segwinnettcoop.org
SUMMARY:Donations Accepted
DESCRIPTION:
URL:https://segwinnettcoop.org/event/donations-accepted/2025-05-06/
LOCATION:Southeast Gwinnett Coop\, 55 Grayson Industrial Parkway\, Grayson\, GA\, 30017\, United States
CATEGORIES:Donations
ORGANIZER;CN="Southeast Gwinnett Coop":MAILTO:info@segwinnettcoop.org
END:VEVENT
BEGIN:VEVENT
DTSTART;TZID=America/New_York:20250508T100000
DTEND;TZID=America/New_York:20250508T120000
DTSTAMP:20260422T184123
CREATED:20230519T011046Z
LAST-MODIFIED:20250811T223544Z
UID:10001637-1746698400-1746705600@segwinnettcoop.org
SUMMARY:Donations Accepted
DESCRIPTION:
URL:https://segwinnettcoop.org/event/donations-accepted/2025-05-08/
LOCATION:Southeast Gwinnett Coop\, 55 Grayson Industrial Parkway\, Grayson\, GA\, 30017\, United States
CATEGORIES:Donations
ORGANIZER;CN="Southeast Gwinnett Coop":MAILTO:info@segwinnettcoop.org
END:VEVENT
BEGIN:VEVENT
DTSTART;TZID=America/New_York:20250509T090000
DTEND;TZID=America/New_York:20250509T120000
DTSTAMP:20260422T184123
CREATED:20230518T224922Z
LAST-MODIFIED:20230609T161531Z
UID:10002712-1746781200-1746792000@segwinnettcoop.org
SUMMARY:Benefits Outreach
DESCRIPTION:Sponsored by Atlanta Community Food Bank\nAre You Eligible? \n\nFood Stamps\nMedicaid Assistance\nTANF\nWIC\nCAPS\nSpecial Help for Medicare Recipients\n\nDocuments to Bring: \nPhoto ID\, Birth Certificate\, Lease\, Award Letter for Social Security and/or S.S.I.\, and other unearned inform\, Pay Stubs for the last month (if applicable)\, Utility Bills\, and any Medical Bills.
URL:https://segwinnettcoop.org/event/benefits-outreach-2/2025-05-09/
LOCATION:Southeast Gwinnett Coop\, 55 Grayson Industrial Parkway\, Grayson\, GA\, 30017\, United States
CATEGORIES:Benefits and Informational
ORGANIZER;CN="Atlanta Community Food Bank":MAILTO:outreach@acfb.org
END:VEVENT
BEGIN:VEVENT
DTSTART;TZID=America/New_York:20250510T100000
DTEND;TZID=America/New_York:20250510T120000
DTSTAMP:20260422T184123
CREATED:20230519T011046Z
LAST-MODIFIED:20250811T223544Z
UID:10001638-1746871200-1746878400@segwinnettcoop.org
SUMMARY:Donations Accepted
DESCRIPTION:
URL:https://segwinnettcoop.org/event/donations-accepted/2025-05-10/
LOCATION:Southeast Gwinnett Coop\, 55 Grayson Industrial Parkway\, Grayson\, GA\, 30017\, United States
CATEGORIES:Donations
ORGANIZER;CN="Southeast Gwinnett Coop":MAILTO:info@segwinnettcoop.org
END:VEVENT
BEGIN:VEVENT
DTSTART;TZID=America/New_York:20250512T100000
DTEND;TZID=America/New_York:20250512T120000
DTSTAMP:20260422T184123
CREATED:20230519T011046Z
LAST-MODIFIED:20250811T223544Z
UID:10001639-1747044000-1747051200@segwinnettcoop.org
SUMMARY:Donations Accepted
DESCRIPTION:
URL:https://segwinnettcoop.org/event/donations-accepted/2025-05-12/
LOCATION:Southeast Gwinnett Coop\, 55 Grayson Industrial Parkway\, Grayson\, GA\, 30017\, United States
CATEGORIES:Donations
ORGANIZER;CN="Southeast Gwinnett Coop":MAILTO:info@segwinnettcoop.org
END:VEVENT
BEGIN:VEVENT
DTSTART;TZID=America/New_York:20250512T180000
DTEND;TZID=America/New_York:20250512T193000
DTSTAMP:20260422T184123
CREATED:20250113T203025Z
LAST-MODIFIED:20250113T203025Z
UID:10003217-1747072800-1747078200@segwinnettcoop.org
SUMMARY:Volunteer Orientation
DESCRIPTION:All Court Ordered Community Service Workers must be pre-approved.  Call 770 985-5229 x102 for more information on Court Order Community Service requirements. \nFor Individual and Group Volunteer opportunities please call 770 985-5229 x106 \n  \n  \n  \n 
URL:https://segwinnettcoop.org/event/volunteer-orientation/2025-05-12/
LOCATION:Greene Room inside Southeast Gwinnett Coop\, 55 Grayson Industrial Parkway\, Grayson\, 30017\, United States
END:VEVENT
BEGIN:VEVENT
DTSTART;TZID=America/New_York:20250513T100000
DTEND;TZID=America/New_York:20250513T120000
DTSTAMP:20260422T184123
CREATED:20230519T011046Z
LAST-MODIFIED:20250811T223544Z
UID:10001640-1747130400-1747137600@segwinnettcoop.org
SUMMARY:Donations Accepted
DESCRIPTION:
URL:https://segwinnettcoop.org/event/donations-accepted/2025-05-13/
LOCATION:Southeast Gwinnett Coop\, 55 Grayson Industrial Parkway\, Grayson\, GA\, 30017\, United States
CATEGORIES:Donations
ORGANIZER;CN="Southeast Gwinnett Coop":MAILTO:info@segwinnettcoop.org
END:VEVENT
BEGIN:VEVENT
DTSTART;TZID=America/New_York:20250515T100000
DTEND;TZID=America/New_York:20250515T120000
DTSTAMP:20260422T184123
CREATED:20230519T011046Z
LAST-MODIFIED:20250811T223544Z
UID:10001641-1747303200-1747310400@segwinnettcoop.org
SUMMARY:Donations Accepted
DESCRIPTION:
URL:https://segwinnettcoop.org/event/donations-accepted/2025-05-15/
LOCATION:Southeast Gwinnett Coop\, 55 Grayson Industrial Parkway\, Grayson\, GA\, 30017\, United States
CATEGORIES:Donations
ORGANIZER;CN="Southeast Gwinnett Coop":MAILTO:info@segwinnettcoop.org
END:VEVENT
BEGIN:VEVENT
DTSTART;TZID=America/New_York:20250517T100000
DTEND;TZID=America/New_York:20250517T120000
DTSTAMP:20260422T184123
CREATED:20230519T011046Z
LAST-MODIFIED:20250811T223544Z
UID:10001642-1747476000-1747483200@segwinnettcoop.org
SUMMARY:Donations Accepted
DESCRIPTION:
URL:https://segwinnettcoop.org/event/donations-accepted/2025-05-17/
LOCATION:Southeast Gwinnett Coop\, 55 Grayson Industrial Parkway\, Grayson\, GA\, 30017\, United States
CATEGORIES:Donations
ORGANIZER;CN="Southeast Gwinnett Coop":MAILTO:info@segwinnettcoop.org
END:VEVENT
BEGIN:VEVENT
DTSTART;TZID=America/New_York:20250519T100000
DTEND;TZID=America/New_York:20250519T120000
DTSTAMP:20260422T184123
CREATED:20230519T011046Z
LAST-MODIFIED:20250811T223544Z
UID:10001643-1747648800-1747656000@segwinnettcoop.org
SUMMARY:Donations Accepted
DESCRIPTION:
URL:https://segwinnettcoop.org/event/donations-accepted/2025-05-19/
LOCATION:Southeast Gwinnett Coop\, 55 Grayson Industrial Parkway\, Grayson\, GA\, 30017\, United States
CATEGORIES:Donations
ORGANIZER;CN="Southeast Gwinnett Coop":MAILTO:info@segwinnettcoop.org
END:VEVENT
BEGIN:VEVENT
DTSTART;TZID=America/New_York:20250520T100000
DTEND;TZID=America/New_York:20250520T120000
DTSTAMP:20260422T184123
CREATED:20230519T011046Z
LAST-MODIFIED:20250811T223544Z
UID:10001644-1747735200-1747742400@segwinnettcoop.org
SUMMARY:Donations Accepted
DESCRIPTION:
URL:https://segwinnettcoop.org/event/donations-accepted/2025-05-20/
LOCATION:Southeast Gwinnett Coop\, 55 Grayson Industrial Parkway\, Grayson\, GA\, 30017\, United States
CATEGORIES:Donations
ORGANIZER;CN="Southeast Gwinnett Coop":MAILTO:info@segwinnettcoop.org
END:VEVENT
BEGIN:VEVENT
DTSTART;TZID=America/New_York:20250522T100000
DTEND;TZID=America/New_York:20250522T120000
DTSTAMP:20260422T184123
CREATED:20230519T011046Z
LAST-MODIFIED:20250811T223544Z
UID:10001645-1747908000-1747915200@segwinnettcoop.org
SUMMARY:Donations Accepted
DESCRIPTION:
URL:https://segwinnettcoop.org/event/donations-accepted/2025-05-22/
LOCATION:Southeast Gwinnett Coop\, 55 Grayson Industrial Parkway\, Grayson\, GA\, 30017\, United States
CATEGORIES:Donations
ORGANIZER;CN="Southeast Gwinnett Coop":MAILTO:info@segwinnettcoop.org
END:VEVENT
BEGIN:VEVENT
DTSTART;TZID=America/New_York:20250523T090000
DTEND;TZID=America/New_York:20250523T120000
DTSTAMP:20260422T184123
CREATED:20230609T155940Z
LAST-MODIFIED:20230609T161754Z
UID:10002762-1747990800-1748001600@segwinnettcoop.org
SUMMARY:Benefits Outreach
DESCRIPTION:Sponsored by Atlanta Community Food Bank\nAre You Eligible? \n\nFood Stamps\nMedicaid Assistance\nTANF\nWIC\nCAPS\nSpecial Help for Medicare Recipients\n\nDocuments to Bring: \nPhoto ID\, Birth Certificate\, Lease\, Award Letter for Social Security and/or S.S.I.\, and other unearned inform\, Pay Stubs for the last month (if applicable)\, Utility Bills\, and any Medical Bills.
URL:https://segwinnettcoop.org/event/benefits-outreach-2-2/2025-05-23/
LOCATION:Southeast Gwinnett Coop\, 55 Grayson Industrial Parkway\, Grayson\, GA\, 30017\, United States
CATEGORIES:Benefits and Informational
ORGANIZER;CN="Atlanta Community Food Bank":MAILTO:outreach@acfb.org
END:VEVENT
BEGIN:VEVENT
DTSTART;TZID=America/New_York:20250524T100000
DTEND;TZID=America/New_York:20250524T120000
DTSTAMP:20260422T184123
CREATED:20230519T011046Z
LAST-MODIFIED:20250811T223544Z
UID:10001646-1748080800-1748088000@segwinnettcoop.org
SUMMARY:Donations Accepted
DESCRIPTION:
URL:https://segwinnettcoop.org/event/donations-accepted/2025-05-24/
LOCATION:Southeast Gwinnett Coop\, 55 Grayson Industrial Parkway\, Grayson\, GA\, 30017\, United States
CATEGORIES:Donations
ORGANIZER;CN="Southeast Gwinnett Coop":MAILTO:info@segwinnettcoop.org
END:VEVENT
BEGIN:VEVENT
DTSTART;TZID=America/New_York:20250526T100000
DTEND;TZID=America/New_York:20250526T120000
DTSTAMP:20260422T184123
CREATED:20230519T011046Z
LAST-MODIFIED:20250811T223544Z
UID:10001647-1748253600-1748260800@segwinnettcoop.org
SUMMARY:Donations Accepted
DESCRIPTION:
URL:https://segwinnettcoop.org/event/donations-accepted/2025-05-26/
LOCATION:Southeast Gwinnett Coop\, 55 Grayson Industrial Parkway\, Grayson\, GA\, 30017\, United States
CATEGORIES:Donations
ORGANIZER;CN="Southeast Gwinnett Coop":MAILTO:info@segwinnettcoop.org
END:VEVENT
BEGIN:VEVENT
DTSTART;TZID=America/New_York:20250527T100000
DTEND;TZID=America/New_York:20250527T120000
DTSTAMP:20260422T184123
CREATED:20230519T011046Z
LAST-MODIFIED:20250811T223544Z
UID:10001648-1748340000-1748347200@segwinnettcoop.org
SUMMARY:Donations Accepted
DESCRIPTION:
URL:https://segwinnettcoop.org/event/donations-accepted/2025-05-27/
LOCATION:Southeast Gwinnett Coop\, 55 Grayson Industrial Parkway\, Grayson\, GA\, 30017\, United States
CATEGORIES:Donations
ORGANIZER;CN="Southeast Gwinnett Coop":MAILTO:info@segwinnettcoop.org
END:VEVENT
BEGIN:VEVENT
DTSTART;TZID=America/New_York:20250529T100000
DTEND;TZID=America/New_York:20250529T120000
DTSTAMP:20260422T184123
CREATED:20230519T011046Z
LAST-MODIFIED:20250811T223544Z
UID:10001649-1748512800-1748520000@segwinnettcoop.org
SUMMARY:Donations Accepted
DESCRIPTION:
URL:https://segwinnettcoop.org/event/donations-accepted/2025-05-29/
LOCATION:Southeast Gwinnett Coop\, 55 Grayson Industrial Parkway\, Grayson\, GA\, 30017\, United States
CATEGORIES:Donations
ORGANIZER;CN="Southeast Gwinnett Coop":MAILTO:info@segwinnettcoop.org
END:VEVENT
BEGIN:VEVENT
DTSTART;TZID=America/New_York:20250531T100000
DTEND;TZID=America/New_York:20250531T120000
DTSTAMP:20260422T184123
CREATED:20230519T011046Z
LAST-MODIFIED:20250811T223544Z
UID:10001650-1748685600-1748692800@segwinnettcoop.org
SUMMARY:Donations Accepted
DESCRIPTION:
URL:https://segwinnettcoop.org/event/donations-accepted/2025-05-31/
LOCATION:Southeast Gwinnett Coop\, 55 Grayson Industrial Parkway\, Grayson\, GA\, 30017\, United States
CATEGORIES:Donations
ORGANIZER;CN="Southeast Gwinnett Coop":MAILTO:info@segwinnettcoop.org
END:VEVENT
BEGIN:VEVENT
DTSTART;TZID=America/New_York:20250602T100000
DTEND;TZID=America/New_York:20250602T120000
DTSTAMP:20260422T184123
CREATED:20230519T011046Z
LAST-MODIFIED:20250811T223544Z
UID:10001651-1748858400-1748865600@segwinnettcoop.org
SUMMARY:Donations Accepted
DESCRIPTION:
URL:https://segwinnettcoop.org/event/donations-accepted/2025-06-02/
LOCATION:Southeast Gwinnett Coop\, 55 Grayson Industrial Parkway\, Grayson\, GA\, 30017\, United States
CATEGORIES:Donations
ORGANIZER;CN="Southeast Gwinnett Coop":MAILTO:info@segwinnettcoop.org
END:VEVENT
BEGIN:VEVENT
DTSTART;TZID=America/New_York:20250603T100000
DTEND;TZID=America/New_York:20250603T120000
DTSTAMP:20260422T184123
CREATED:20230519T011046Z
LAST-MODIFIED:20250811T223544Z
UID:10001652-1748944800-1748952000@segwinnettcoop.org
SUMMARY:Donations Accepted
DESCRIPTION:
URL:https://segwinnettcoop.org/event/donations-accepted/2025-06-03/
LOCATION:Southeast Gwinnett Coop\, 55 Grayson Industrial Parkway\, Grayson\, GA\, 30017\, United States
CATEGORIES:Donations
ORGANIZER;CN="Southeast Gwinnett Coop":MAILTO:info@segwinnettcoop.org
END:VEVENT
END:VCALENDAR