BEGIN:VCALENDAR
VERSION:2.0
PRODID:-//Southeast Gwinnett Cooperative Ministry - ECPv6.15.20//NONSGML v1.0//EN
CALSCALE:GREGORIAN
METHOD:PUBLISH
X-ORIGINAL-URL:https://segwinnettcoop.org
X-WR-CALDESC:Events for Southeast Gwinnett Cooperative Ministry
REFRESH-INTERVAL;VALUE=DURATION:PT1H
X-Robots-Tag:noindex
X-PUBLISHED-TTL:PT1H
BEGIN:VTIMEZONE
TZID:America/New_York
BEGIN:DAYLIGHT
TZOFFSETFROM:-0500
TZOFFSETTO:-0400
TZNAME:EDT
DTSTART:20250309T070000
END:DAYLIGHT
BEGIN:STANDARD
TZOFFSETFROM:-0400
TZOFFSETTO:-0500
TZNAME:EST
DTSTART:20251102T060000
END:STANDARD
BEGIN:DAYLIGHT
TZOFFSETFROM:-0500
TZOFFSETTO:-0400
TZNAME:EDT
DTSTART:20260308T070000
END:DAYLIGHT
BEGIN:STANDARD
TZOFFSETFROM:-0400
TZOFFSETTO:-0500
TZNAME:EST
DTSTART:20261101T060000
END:STANDARD
BEGIN:DAYLIGHT
TZOFFSETFROM:-0500
TZOFFSETTO:-0400
TZNAME:EDT
DTSTART:20270314T070000
END:DAYLIGHT
BEGIN:STANDARD
TZOFFSETFROM:-0400
TZOFFSETTO:-0500
TZNAME:EST
DTSTART:20271107T060000
END:STANDARD
BEGIN:DAYLIGHT
TZOFFSETFROM:-0500
TZOFFSETTO:-0400
TZNAME:EDT
DTSTART:20280312T070000
END:DAYLIGHT
BEGIN:STANDARD
TZOFFSETFROM:-0400
TZOFFSETTO:-0500
TZNAME:EST
DTSTART:20281105T060000
END:STANDARD
END:VTIMEZONE
BEGIN:VEVENT
DTSTART;TZID=America/New_York:20261222T100000
DTEND;TZID=America/New_York:20261222T120000
DTSTAMP:20260424T234300
CREATED:20250811T230800Z
LAST-MODIFIED:20250811T230801Z
UID:10001976-1797933600-1797940800@segwinnettcoop.org
SUMMARY:Donations Accepted
DESCRIPTION:
URL:https://segwinnettcoop.org/event/donations-accepted-2/2026-12-22/
LOCATION:Southeast Gwinnett Coop\, 55 Grayson Industrial Parkway\, Grayson\, GA\, 30017\, United States
CATEGORIES:Donations
ORGANIZER;CN="Southeast Gwinnett Coop":MAILTO:info@segwinnettcoop.org
END:VEVENT
BEGIN:VEVENT
DTSTART;TZID=America/New_York:20261223T090000
DTEND;TZID=America/New_York:20261223T120000
DTSTAMP:20260424T234300
CREATED:20250811T225134Z
LAST-MODIFIED:20250811T231631Z
UID:10004266-1798016400-1798027200@segwinnettcoop.org
SUMMARY:Pantry Assistance
DESCRIPTION:Please bring a picture id and a current piece of mail.  We are first come / first serve.
URL:https://segwinnettcoop.org/event/pantry-assistance-2/2026-12-23/
LOCATION:GA
CATEGORIES:Pantry
END:VEVENT
BEGIN:VEVENT
DTSTART;TZID=America/New_York:20261224T100000
DTEND;TZID=America/New_York:20261224T120000
DTSTAMP:20260424T234300
CREATED:20250811T230800Z
LAST-MODIFIED:20250811T230801Z
UID:10001977-1798106400-1798113600@segwinnettcoop.org
SUMMARY:Donations Accepted
DESCRIPTION:
URL:https://segwinnettcoop.org/event/donations-accepted-2/2026-12-24/
LOCATION:Southeast Gwinnett Coop\, 55 Grayson Industrial Parkway\, Grayson\, GA\, 30017\, United States
CATEGORIES:Donations
ORGANIZER;CN="Southeast Gwinnett Coop":MAILTO:info@segwinnettcoop.org
END:VEVENT
BEGIN:VEVENT
DTSTART;TZID=America/New_York:20261225T090000
DTEND;TZID=America/New_York:20261225T120000
DTSTAMP:20260424T234300
CREATED:20250811T225438Z
LAST-MODIFIED:20250811T231711Z
UID:10004527-1798189200-1798200000@segwinnettcoop.org
SUMMARY:Pantry Assistance
DESCRIPTION:Please bring a current piece of mail.  We are first come / first serve.
URL:https://segwinnettcoop.org/event/pantry-assistance-3/2026-12-25/
LOCATION:GA
CATEGORIES:Pantry
END:VEVENT
BEGIN:VEVENT
DTSTART;TZID=America/New_York:20261225T090000
DTEND;TZID=America/New_York:20261225T120000
DTSTAMP:20260424T234300
CREATED:20250812T134029Z
LAST-MODIFIED:20250812T134032Z
UID:10002651-1798189200-1798200000@segwinnettcoop.org
SUMMARY:Benefits Outreach
DESCRIPTION:Sponsored by Atlanta Community Food Bank\nAre You Eligible? \n\nFood Stamps\nMedicaid Assistance\nTANF\nWIC\nCAPS\nSpecial Help for Medicare Recipients\n\nDocuments to Bring: \nPhoto ID\, Birth Certificate\, Lease\, Award Letter for Social Security and/or S.S.I.\, and other unearned inform\, Pay Stubs for the last month (if applicable)\, Utility Bills\, and any Medical Bills.
URL:https://segwinnettcoop.org/event/benefits-outreach-2-2-2/2026-12-25/
LOCATION:Southeast Gwinnett Coop\, 55 Grayson Industrial Parkway\, Grayson\, GA\, 30017\, United States
CATEGORIES:Benefits and Informational
ORGANIZER;CN="Atlanta Community Food Bank":MAILTO:outreach@acfb.org
END:VEVENT
BEGIN:VEVENT
DTSTART;TZID=America/New_York:20261226T100000
DTEND;TZID=America/New_York:20261226T120000
DTSTAMP:20260424T234300
CREATED:20250811T230800Z
LAST-MODIFIED:20250811T230801Z
UID:10001978-1798279200-1798286400@segwinnettcoop.org
SUMMARY:Donations Accepted
DESCRIPTION:
URL:https://segwinnettcoop.org/event/donations-accepted-2/2026-12-26/
LOCATION:Southeast Gwinnett Coop\, 55 Grayson Industrial Parkway\, Grayson\, GA\, 30017\, United States
CATEGORIES:Donations
ORGANIZER;CN="Southeast Gwinnett Coop":MAILTO:info@segwinnettcoop.org
END:VEVENT
BEGIN:VEVENT
DTSTART;TZID=America/New_York:20261228T100000
DTEND;TZID=America/New_York:20261228T120000
DTSTAMP:20260424T234300
CREATED:20250811T230800Z
LAST-MODIFIED:20250811T230801Z
UID:10001979-1798452000-1798459200@segwinnettcoop.org
SUMMARY:Donations Accepted
DESCRIPTION:
URL:https://segwinnettcoop.org/event/donations-accepted-2/2026-12-28/
LOCATION:Southeast Gwinnett Coop\, 55 Grayson Industrial Parkway\, Grayson\, GA\, 30017\, United States
CATEGORIES:Donations
ORGANIZER;CN="Southeast Gwinnett Coop":MAILTO:info@segwinnettcoop.org
END:VEVENT
BEGIN:VEVENT
DTSTART;TZID=America/New_York:20261228T150000
DTEND;TZID=America/New_York:20261228T190000
DTSTAMP:20260424T234300
CREATED:20250811T231138Z
LAST-MODIFIED:20250811T231139Z
UID:10004006-1798470000-1798484400@segwinnettcoop.org
SUMMARY:Pantry Assistance
DESCRIPTION:Please bring a picture id and a current piece of mail.  We are first come / first serve.
URL:https://segwinnettcoop.org/event/pantry-assistance-4/2026-12-28/
LOCATION:Southeast Gwinnett Coop\, 55 Grayson Industrial Parkway\, Grayson\, GA\, 30017\, United States
CATEGORIES:Pantry
ORGANIZER;CN="Southeast Gwinnett Coop":MAILTO:info@segwinnettcoop.org
END:VEVENT
BEGIN:VEVENT
DTSTART;TZID=America/New_York:20261229T100000
DTEND;TZID=America/New_York:20261229T120000
DTSTAMP:20260424T234300
CREATED:20250811T230800Z
LAST-MODIFIED:20250811T230801Z
UID:10001980-1798538400-1798545600@segwinnettcoop.org
SUMMARY:Donations Accepted
DESCRIPTION:
URL:https://segwinnettcoop.org/event/donations-accepted-2/2026-12-29/
LOCATION:Southeast Gwinnett Coop\, 55 Grayson Industrial Parkway\, Grayson\, GA\, 30017\, United States
CATEGORIES:Donations
ORGANIZER;CN="Southeast Gwinnett Coop":MAILTO:info@segwinnettcoop.org
END:VEVENT
BEGIN:VEVENT
DTSTART;TZID=America/New_York:20261230T090000
DTEND;TZID=America/New_York:20261230T120000
DTSTAMP:20260424T234300
CREATED:20250811T225134Z
LAST-MODIFIED:20250811T231631Z
UID:10004267-1798621200-1798632000@segwinnettcoop.org
SUMMARY:Pantry Assistance
DESCRIPTION:Please bring a picture id and a current piece of mail.  We are first come / first serve.
URL:https://segwinnettcoop.org/event/pantry-assistance-2/2026-12-30/
LOCATION:GA
CATEGORIES:Pantry
END:VEVENT
BEGIN:VEVENT
DTSTART;TZID=America/New_York:20261231T100000
DTEND;TZID=America/New_York:20261231T120000
DTSTAMP:20260424T234300
CREATED:20250811T230800Z
LAST-MODIFIED:20250811T230801Z
UID:10001981-1798711200-1798718400@segwinnettcoop.org
SUMMARY:Donations Accepted
DESCRIPTION:
URL:https://segwinnettcoop.org/event/donations-accepted-2/2026-12-31/
LOCATION:Southeast Gwinnett Coop\, 55 Grayson Industrial Parkway\, Grayson\, GA\, 30017\, United States
CATEGORIES:Donations
ORGANIZER;CN="Southeast Gwinnett Coop":MAILTO:info@segwinnettcoop.org
END:VEVENT
BEGIN:VEVENT
DTSTART;TZID=America/New_York:20270101T090000
DTEND;TZID=America/New_York:20270101T120000
DTSTAMP:20260424T234300
CREATED:20250811T225438Z
LAST-MODIFIED:20250811T231711Z
UID:10004528-1798794000-1798804800@segwinnettcoop.org
SUMMARY:Pantry Assistance
DESCRIPTION:Please bring a current piece of mail.  We are first come / first serve.
URL:https://segwinnettcoop.org/event/pantry-assistance-3/2027-01-01/
LOCATION:GA
CATEGORIES:Pantry
END:VEVENT
BEGIN:VEVENT
DTSTART;TZID=America/New_York:20270102T100000
DTEND;TZID=America/New_York:20270102T120000
DTSTAMP:20260424T234300
CREATED:20250811T230800Z
LAST-MODIFIED:20250811T230801Z
UID:10001982-1798884000-1798891200@segwinnettcoop.org
SUMMARY:Donations Accepted
DESCRIPTION:
URL:https://segwinnettcoop.org/event/donations-accepted-2/2027-01-02/
LOCATION:Southeast Gwinnett Coop\, 55 Grayson Industrial Parkway\, Grayson\, GA\, 30017\, United States
CATEGORIES:Donations
ORGANIZER;CN="Southeast Gwinnett Coop":MAILTO:info@segwinnettcoop.org
END:VEVENT
BEGIN:VEVENT
DTSTART;TZID=America/New_York:20270104T100000
DTEND;TZID=America/New_York:20270104T120000
DTSTAMP:20260424T234300
CREATED:20250811T230800Z
LAST-MODIFIED:20250811T230801Z
UID:10001983-1799056800-1799064000@segwinnettcoop.org
SUMMARY:Donations Accepted
DESCRIPTION:
URL:https://segwinnettcoop.org/event/donations-accepted-2/2027-01-04/
LOCATION:Southeast Gwinnett Coop\, 55 Grayson Industrial Parkway\, Grayson\, GA\, 30017\, United States
CATEGORIES:Donations
ORGANIZER;CN="Southeast Gwinnett Coop":MAILTO:info@segwinnettcoop.org
END:VEVENT
BEGIN:VEVENT
DTSTART;TZID=America/New_York:20270104T150000
DTEND;TZID=America/New_York:20270104T190000
DTSTAMP:20260424T234300
CREATED:20250811T231138Z
LAST-MODIFIED:20250811T231139Z
UID:10004007-1799074800-1799089200@segwinnettcoop.org
SUMMARY:Pantry Assistance
DESCRIPTION:Please bring a picture id and a current piece of mail.  We are first come / first serve.
URL:https://segwinnettcoop.org/event/pantry-assistance-4/2027-01-04/
LOCATION:Southeast Gwinnett Coop\, 55 Grayson Industrial Parkway\, Grayson\, GA\, 30017\, United States
CATEGORIES:Pantry
ORGANIZER;CN="Southeast Gwinnett Coop":MAILTO:info@segwinnettcoop.org
END:VEVENT
BEGIN:VEVENT
DTSTART;TZID=America/New_York:20270105T100000
DTEND;TZID=America/New_York:20270105T120000
DTSTAMP:20260424T234300
CREATED:20250811T230800Z
LAST-MODIFIED:20250811T230801Z
UID:10001984-1799143200-1799150400@segwinnettcoop.org
SUMMARY:Donations Accepted
DESCRIPTION:
URL:https://segwinnettcoop.org/event/donations-accepted-2/2027-01-05/
LOCATION:Southeast Gwinnett Coop\, 55 Grayson Industrial Parkway\, Grayson\, GA\, 30017\, United States
CATEGORIES:Donations
ORGANIZER;CN="Southeast Gwinnett Coop":MAILTO:info@segwinnettcoop.org
END:VEVENT
BEGIN:VEVENT
DTSTART;TZID=America/New_York:20270106T090000
DTEND;TZID=America/New_York:20270106T120000
DTSTAMP:20260424T234300
CREATED:20250811T225134Z
LAST-MODIFIED:20250811T231631Z
UID:10004268-1799226000-1799236800@segwinnettcoop.org
SUMMARY:Pantry Assistance
DESCRIPTION:Please bring a picture id and a current piece of mail.  We are first come / first serve.
URL:https://segwinnettcoop.org/event/pantry-assistance-2/2027-01-06/
LOCATION:GA
CATEGORIES:Pantry
END:VEVENT
BEGIN:VEVENT
DTSTART;TZID=America/New_York:20270107T100000
DTEND;TZID=America/New_York:20270107T120000
DTSTAMP:20260424T234300
CREATED:20250811T230800Z
LAST-MODIFIED:20250811T230801Z
UID:10001985-1799316000-1799323200@segwinnettcoop.org
SUMMARY:Donations Accepted
DESCRIPTION:
URL:https://segwinnettcoop.org/event/donations-accepted-2/2027-01-07/
LOCATION:Southeast Gwinnett Coop\, 55 Grayson Industrial Parkway\, Grayson\, GA\, 30017\, United States
CATEGORIES:Donations
ORGANIZER;CN="Southeast Gwinnett Coop":MAILTO:info@segwinnettcoop.org
END:VEVENT
BEGIN:VEVENT
DTSTART;TZID=America/New_York:20270108T090000
DTEND;TZID=America/New_York:20270108T120000
DTSTAMP:20260424T234300
CREATED:20230518T224922Z
LAST-MODIFIED:20230609T161531Z
UID:10002732-1799398800-1799409600@segwinnettcoop.org
SUMMARY:Benefits Outreach
DESCRIPTION:Sponsored by Atlanta Community Food Bank\nAre You Eligible? \n\nFood Stamps\nMedicaid Assistance\nTANF\nWIC\nCAPS\nSpecial Help for Medicare Recipients\n\nDocuments to Bring: \nPhoto ID\, Birth Certificate\, Lease\, Award Letter for Social Security and/or S.S.I.\, and other unearned inform\, Pay Stubs for the last month (if applicable)\, Utility Bills\, and any Medical Bills.
URL:https://segwinnettcoop.org/event/benefits-outreach-2/2027-01-08/
LOCATION:Southeast Gwinnett Coop\, 55 Grayson Industrial Parkway\, Grayson\, GA\, 30017\, United States
CATEGORIES:Benefits and Informational
ORGANIZER;CN="Atlanta Community Food Bank":MAILTO:outreach@acfb.org
END:VEVENT
BEGIN:VEVENT
DTSTART;TZID=America/New_York:20270108T090000
DTEND;TZID=America/New_York:20270108T120000
DTSTAMP:20260424T234300
CREATED:20250811T225438Z
LAST-MODIFIED:20250811T231711Z
UID:10004529-1799398800-1799409600@segwinnettcoop.org
SUMMARY:Pantry Assistance
DESCRIPTION:Please bring a current piece of mail.  We are first come / first serve.
URL:https://segwinnettcoop.org/event/pantry-assistance-3/2027-01-08/
LOCATION:GA
CATEGORIES:Pantry
END:VEVENT
BEGIN:VEVENT
DTSTART;TZID=America/New_York:20270109T100000
DTEND;TZID=America/New_York:20270109T120000
DTSTAMP:20260424T234300
CREATED:20250811T230800Z
LAST-MODIFIED:20250811T230801Z
UID:10001986-1799488800-1799496000@segwinnettcoop.org
SUMMARY:Donations Accepted
DESCRIPTION:
URL:https://segwinnettcoop.org/event/donations-accepted-2/2027-01-09/
LOCATION:Southeast Gwinnett Coop\, 55 Grayson Industrial Parkway\, Grayson\, GA\, 30017\, United States
CATEGORIES:Donations
ORGANIZER;CN="Southeast Gwinnett Coop":MAILTO:info@segwinnettcoop.org
END:VEVENT
BEGIN:VEVENT
DTSTART;TZID=America/New_York:20270111T100000
DTEND;TZID=America/New_York:20270111T120000
DTSTAMP:20260424T234300
CREATED:20250811T230800Z
LAST-MODIFIED:20250811T230801Z
UID:10001987-1799661600-1799668800@segwinnettcoop.org
SUMMARY:Donations Accepted
DESCRIPTION:
URL:https://segwinnettcoop.org/event/donations-accepted-2/2027-01-11/
LOCATION:Southeast Gwinnett Coop\, 55 Grayson Industrial Parkway\, Grayson\, GA\, 30017\, United States
CATEGORIES:Donations
ORGANIZER;CN="Southeast Gwinnett Coop":MAILTO:info@segwinnettcoop.org
END:VEVENT
BEGIN:VEVENT
DTSTART;TZID=America/New_York:20270111T150000
DTEND;TZID=America/New_York:20270111T190000
DTSTAMP:20260424T234300
CREATED:20250811T231138Z
LAST-MODIFIED:20250811T231139Z
UID:10004008-1799679600-1799694000@segwinnettcoop.org
SUMMARY:Pantry Assistance
DESCRIPTION:Please bring a picture id and a current piece of mail.  We are first come / first serve.
URL:https://segwinnettcoop.org/event/pantry-assistance-4/2027-01-11/
LOCATION:Southeast Gwinnett Coop\, 55 Grayson Industrial Parkway\, Grayson\, GA\, 30017\, United States
CATEGORIES:Pantry
ORGANIZER;CN="Southeast Gwinnett Coop":MAILTO:info@segwinnettcoop.org
END:VEVENT
BEGIN:VEVENT
DTSTART;TZID=America/New_York:20270112T100000
DTEND;TZID=America/New_York:20270112T120000
DTSTAMP:20260424T234300
CREATED:20250811T230800Z
LAST-MODIFIED:20250811T230801Z
UID:10001988-1799748000-1799755200@segwinnettcoop.org
SUMMARY:Donations Accepted
DESCRIPTION:
URL:https://segwinnettcoop.org/event/donations-accepted-2/2027-01-12/
LOCATION:Southeast Gwinnett Coop\, 55 Grayson Industrial Parkway\, Grayson\, GA\, 30017\, United States
CATEGORIES:Donations
ORGANIZER;CN="Southeast Gwinnett Coop":MAILTO:info@segwinnettcoop.org
END:VEVENT
BEGIN:VEVENT
DTSTART;TZID=America/New_York:20270113T090000
DTEND;TZID=America/New_York:20270113T120000
DTSTAMP:20260424T234300
CREATED:20250811T225134Z
LAST-MODIFIED:20250811T231631Z
UID:10004269-1799830800-1799841600@segwinnettcoop.org
SUMMARY:Pantry Assistance
DESCRIPTION:Please bring a picture id and a current piece of mail.  We are first come / first serve.
URL:https://segwinnettcoop.org/event/pantry-assistance-2/2027-01-13/
LOCATION:GA
CATEGORIES:Pantry
END:VEVENT
BEGIN:VEVENT
DTSTART;TZID=America/New_York:20270114T100000
DTEND;TZID=America/New_York:20270114T120000
DTSTAMP:20260424T234300
CREATED:20250811T230800Z
LAST-MODIFIED:20250811T230801Z
UID:10001989-1799920800-1799928000@segwinnettcoop.org
SUMMARY:Donations Accepted
DESCRIPTION:
URL:https://segwinnettcoop.org/event/donations-accepted-2/2027-01-14/
LOCATION:Southeast Gwinnett Coop\, 55 Grayson Industrial Parkway\, Grayson\, GA\, 30017\, United States
CATEGORIES:Donations
ORGANIZER;CN="Southeast Gwinnett Coop":MAILTO:info@segwinnettcoop.org
END:VEVENT
BEGIN:VEVENT
DTSTART;TZID=America/New_York:20270115T090000
DTEND;TZID=America/New_York:20270115T120000
DTSTAMP:20260424T234300
CREATED:20250811T225438Z
LAST-MODIFIED:20250811T231711Z
UID:10004530-1800003600-1800014400@segwinnettcoop.org
SUMMARY:Pantry Assistance
DESCRIPTION:Please bring a current piece of mail.  We are first come / first serve.
URL:https://segwinnettcoop.org/event/pantry-assistance-3/2027-01-15/
LOCATION:GA
CATEGORIES:Pantry
END:VEVENT
BEGIN:VEVENT
DTSTART;TZID=America/New_York:20270116T100000
DTEND;TZID=America/New_York:20270116T120000
DTSTAMP:20260424T234301
CREATED:20250811T230800Z
LAST-MODIFIED:20250811T230801Z
UID:10001990-1800093600-1800100800@segwinnettcoop.org
SUMMARY:Donations Accepted
DESCRIPTION:
URL:https://segwinnettcoop.org/event/donations-accepted-2/2027-01-16/
LOCATION:Southeast Gwinnett Coop\, 55 Grayson Industrial Parkway\, Grayson\, GA\, 30017\, United States
CATEGORIES:Donations
ORGANIZER;CN="Southeast Gwinnett Coop":MAILTO:info@segwinnettcoop.org
END:VEVENT
BEGIN:VEVENT
DTSTART;TZID=America/New_York:20270118T100000
DTEND;TZID=America/New_York:20270118T120000
DTSTAMP:20260424T234301
CREATED:20250811T230800Z
LAST-MODIFIED:20250811T230801Z
UID:10001991-1800266400-1800273600@segwinnettcoop.org
SUMMARY:Donations Accepted
DESCRIPTION:
URL:https://segwinnettcoop.org/event/donations-accepted-2/2027-01-18/
LOCATION:Southeast Gwinnett Coop\, 55 Grayson Industrial Parkway\, Grayson\, GA\, 30017\, United States
CATEGORIES:Donations
ORGANIZER;CN="Southeast Gwinnett Coop":MAILTO:info@segwinnettcoop.org
END:VEVENT
BEGIN:VEVENT
DTSTART;TZID=America/New_York:20270118T150000
DTEND;TZID=America/New_York:20270118T190000
DTSTAMP:20260424T234301
CREATED:20250811T231138Z
LAST-MODIFIED:20250811T231139Z
UID:10004009-1800284400-1800298800@segwinnettcoop.org
SUMMARY:Pantry Assistance
DESCRIPTION:Please bring a picture id and a current piece of mail.  We are first come / first serve.
URL:https://segwinnettcoop.org/event/pantry-assistance-4/2027-01-18/
LOCATION:Southeast Gwinnett Coop\, 55 Grayson Industrial Parkway\, Grayson\, GA\, 30017\, United States
CATEGORIES:Pantry
ORGANIZER;CN="Southeast Gwinnett Coop":MAILTO:info@segwinnettcoop.org
END:VEVENT
END:VCALENDAR