BEGIN:VCALENDAR
VERSION:2.0
PRODID:-//Southeast Gwinnett Cooperative Ministry - ECPv6.15.20//NONSGML v1.0//EN
CALSCALE:GREGORIAN
METHOD:PUBLISH
X-WR-CALNAME:Southeast Gwinnett Cooperative Ministry
X-ORIGINAL-URL:https://segwinnettcoop.org
X-WR-CALDESC:Events for Southeast Gwinnett Cooperative Ministry
REFRESH-INTERVAL;VALUE=DURATION:PT1H
X-Robots-Tag:noindex
X-PUBLISHED-TTL:PT1H
BEGIN:VTIMEZONE
TZID:America/New_York
BEGIN:DAYLIGHT
TZOFFSETFROM:-0500
TZOFFSETTO:-0400
TZNAME:EDT
DTSTART:20250309T070000
END:DAYLIGHT
BEGIN:STANDARD
TZOFFSETFROM:-0400
TZOFFSETTO:-0500
TZNAME:EST
DTSTART:20251102T060000
END:STANDARD
BEGIN:DAYLIGHT
TZOFFSETFROM:-0500
TZOFFSETTO:-0400
TZNAME:EDT
DTSTART:20260308T070000
END:DAYLIGHT
BEGIN:STANDARD
TZOFFSETFROM:-0400
TZOFFSETTO:-0500
TZNAME:EST
DTSTART:20261101T060000
END:STANDARD
BEGIN:DAYLIGHT
TZOFFSETFROM:-0500
TZOFFSETTO:-0400
TZNAME:EDT
DTSTART:20270314T070000
END:DAYLIGHT
BEGIN:STANDARD
TZOFFSETFROM:-0400
TZOFFSETTO:-0500
TZNAME:EST
DTSTART:20271107T060000
END:STANDARD
BEGIN:DAYLIGHT
TZOFFSETFROM:-0500
TZOFFSETTO:-0400
TZNAME:EDT
DTSTART:20280312T070000
END:DAYLIGHT
BEGIN:STANDARD
TZOFFSETFROM:-0400
TZOFFSETTO:-0500
TZNAME:EST
DTSTART:20281105T060000
END:STANDARD
END:VTIMEZONE
BEGIN:VEVENT
DTSTART;TZID=America/New_York:20261207T100000
DTEND;TZID=America/New_York:20261207T120000
DTSTAMP:20260424T234130
CREATED:20250811T230800Z
LAST-MODIFIED:20250811T230801Z
UID:10001967-1796637600-1796644800@segwinnettcoop.org
SUMMARY:Donations Accepted
DESCRIPTION:
URL:https://segwinnettcoop.org/event/donations-accepted-2/2026-12-07/
LOCATION:Southeast Gwinnett Coop\, 55 Grayson Industrial Parkway\, Grayson\, GA\, 30017\, United States
CATEGORIES:Donations
ORGANIZER;CN="Southeast Gwinnett Coop":MAILTO:info@segwinnettcoop.org
END:VEVENT
BEGIN:VEVENT
DTSTART;TZID=America/New_York:20261207T150000
DTEND;TZID=America/New_York:20261207T190000
DTSTAMP:20260424T234130
CREATED:20250811T231138Z
LAST-MODIFIED:20250811T231139Z
UID:10004003-1796655600-1796670000@segwinnettcoop.org
SUMMARY:Pantry Assistance
DESCRIPTION:Please bring a picture id and a current piece of mail.  We are first come / first serve.
URL:https://segwinnettcoop.org/event/pantry-assistance-4/2026-12-07/
LOCATION:Southeast Gwinnett Coop\, 55 Grayson Industrial Parkway\, Grayson\, GA\, 30017\, United States
CATEGORIES:Pantry
ORGANIZER;CN="Southeast Gwinnett Coop":MAILTO:info@segwinnettcoop.org
END:VEVENT
BEGIN:VEVENT
DTSTART;TZID=America/New_York:20261208T100000
DTEND;TZID=America/New_York:20261208T120000
DTSTAMP:20260424T234130
CREATED:20250811T230800Z
LAST-MODIFIED:20250811T230801Z
UID:10001968-1796724000-1796731200@segwinnettcoop.org
SUMMARY:Donations Accepted
DESCRIPTION:
URL:https://segwinnettcoop.org/event/donations-accepted-2/2026-12-08/
LOCATION:Southeast Gwinnett Coop\, 55 Grayson Industrial Parkway\, Grayson\, GA\, 30017\, United States
CATEGORIES:Donations
ORGANIZER;CN="Southeast Gwinnett Coop":MAILTO:info@segwinnettcoop.org
END:VEVENT
BEGIN:VEVENT
DTSTART;TZID=America/New_York:20261209T090000
DTEND;TZID=America/New_York:20261209T120000
DTSTAMP:20260424T234130
CREATED:20250811T225134Z
LAST-MODIFIED:20250811T231631Z
UID:10004264-1796806800-1796817600@segwinnettcoop.org
SUMMARY:Pantry Assistance
DESCRIPTION:Please bring a picture id and a current piece of mail.  We are first come / first serve.
URL:https://segwinnettcoop.org/event/pantry-assistance-2/2026-12-09/
LOCATION:GA
CATEGORIES:Pantry
END:VEVENT
BEGIN:VEVENT
DTSTART;TZID=America/New_York:20261210T100000
DTEND;TZID=America/New_York:20261210T120000
DTSTAMP:20260424T234130
CREATED:20250811T230800Z
LAST-MODIFIED:20250811T230801Z
UID:10001969-1796896800-1796904000@segwinnettcoop.org
SUMMARY:Donations Accepted
DESCRIPTION:
URL:https://segwinnettcoop.org/event/donations-accepted-2/2026-12-10/
LOCATION:Southeast Gwinnett Coop\, 55 Grayson Industrial Parkway\, Grayson\, GA\, 30017\, United States
CATEGORIES:Donations
ORGANIZER;CN="Southeast Gwinnett Coop":MAILTO:info@segwinnettcoop.org
END:VEVENT
BEGIN:VEVENT
DTSTART;TZID=America/New_York:20261211T090000
DTEND;TZID=America/New_York:20261211T120000
DTSTAMP:20260424T234130
CREATED:20230518T224922Z
LAST-MODIFIED:20230609T161531Z
UID:10002731-1796979600-1796990400@segwinnettcoop.org
SUMMARY:Benefits Outreach
DESCRIPTION:Sponsored by Atlanta Community Food Bank\nAre You Eligible? \n\nFood Stamps\nMedicaid Assistance\nTANF\nWIC\nCAPS\nSpecial Help for Medicare Recipients\n\nDocuments to Bring: \nPhoto ID\, Birth Certificate\, Lease\, Award Letter for Social Security and/or S.S.I.\, and other unearned inform\, Pay Stubs for the last month (if applicable)\, Utility Bills\, and any Medical Bills.
URL:https://segwinnettcoop.org/event/benefits-outreach-2/2026-12-11/
LOCATION:Southeast Gwinnett Coop\, 55 Grayson Industrial Parkway\, Grayson\, GA\, 30017\, United States
CATEGORIES:Benefits and Informational
ORGANIZER;CN="Atlanta Community Food Bank":MAILTO:outreach@acfb.org
END:VEVENT
BEGIN:VEVENT
DTSTART;TZID=America/New_York:20261211T090000
DTEND;TZID=America/New_York:20261211T120000
DTSTAMP:20260424T234130
CREATED:20250811T225438Z
LAST-MODIFIED:20250811T231711Z
UID:10004525-1796979600-1796990400@segwinnettcoop.org
SUMMARY:Pantry Assistance
DESCRIPTION:Please bring a current piece of mail.  We are first come / first serve.
URL:https://segwinnettcoop.org/event/pantry-assistance-3/2026-12-11/
LOCATION:GA
CATEGORIES:Pantry
END:VEVENT
BEGIN:VEVENT
DTSTART;TZID=America/New_York:20261212T100000
DTEND;TZID=America/New_York:20261212T120000
DTSTAMP:20260424T234130
CREATED:20250811T230800Z
LAST-MODIFIED:20250811T230801Z
UID:10001970-1797069600-1797076800@segwinnettcoop.org
SUMMARY:Donations Accepted
DESCRIPTION:
URL:https://segwinnettcoop.org/event/donations-accepted-2/2026-12-12/
LOCATION:Southeast Gwinnett Coop\, 55 Grayson Industrial Parkway\, Grayson\, GA\, 30017\, United States
CATEGORIES:Donations
ORGANIZER;CN="Southeast Gwinnett Coop":MAILTO:info@segwinnettcoop.org
END:VEVENT
BEGIN:VEVENT
DTSTART;TZID=America/New_York:20261214T100000
DTEND;TZID=America/New_York:20261214T120000
DTSTAMP:20260424T234130
CREATED:20250811T230800Z
LAST-MODIFIED:20250811T230801Z
UID:10001971-1797242400-1797249600@segwinnettcoop.org
SUMMARY:Donations Accepted
DESCRIPTION:
URL:https://segwinnettcoop.org/event/donations-accepted-2/2026-12-14/
LOCATION:Southeast Gwinnett Coop\, 55 Grayson Industrial Parkway\, Grayson\, GA\, 30017\, United States
CATEGORIES:Donations
ORGANIZER;CN="Southeast Gwinnett Coop":MAILTO:info@segwinnettcoop.org
END:VEVENT
BEGIN:VEVENT
DTSTART;TZID=America/New_York:20261214T150000
DTEND;TZID=America/New_York:20261214T190000
DTSTAMP:20260424T234130
CREATED:20250811T231138Z
LAST-MODIFIED:20250811T231139Z
UID:10004004-1797260400-1797274800@segwinnettcoop.org
SUMMARY:Pantry Assistance
DESCRIPTION:Please bring a picture id and a current piece of mail.  We are first come / first serve.
URL:https://segwinnettcoop.org/event/pantry-assistance-4/2026-12-14/
LOCATION:Southeast Gwinnett Coop\, 55 Grayson Industrial Parkway\, Grayson\, GA\, 30017\, United States
CATEGORIES:Pantry
ORGANIZER;CN="Southeast Gwinnett Coop":MAILTO:info@segwinnettcoop.org
END:VEVENT
BEGIN:VEVENT
DTSTART;TZID=America/New_York:20261215T100000
DTEND;TZID=America/New_York:20261215T120000
DTSTAMP:20260424T234130
CREATED:20250811T230800Z
LAST-MODIFIED:20250811T230801Z
UID:10001972-1797328800-1797336000@segwinnettcoop.org
SUMMARY:Donations Accepted
DESCRIPTION:
URL:https://segwinnettcoop.org/event/donations-accepted-2/2026-12-15/
LOCATION:Southeast Gwinnett Coop\, 55 Grayson Industrial Parkway\, Grayson\, GA\, 30017\, United States
CATEGORIES:Donations
ORGANIZER;CN="Southeast Gwinnett Coop":MAILTO:info@segwinnettcoop.org
END:VEVENT
BEGIN:VEVENT
DTSTART;TZID=America/New_York:20261216T090000
DTEND;TZID=America/New_York:20261216T120000
DTSTAMP:20260424T234130
CREATED:20250811T225134Z
LAST-MODIFIED:20250811T231631Z
UID:10004265-1797411600-1797422400@segwinnettcoop.org
SUMMARY:Pantry Assistance
DESCRIPTION:Please bring a picture id and a current piece of mail.  We are first come / first serve.
URL:https://segwinnettcoop.org/event/pantry-assistance-2/2026-12-16/
LOCATION:GA
CATEGORIES:Pantry
END:VEVENT
BEGIN:VEVENT
DTSTART;TZID=America/New_York:20261217T100000
DTEND;TZID=America/New_York:20261217T120000
DTSTAMP:20260424T234130
CREATED:20250811T230800Z
LAST-MODIFIED:20250811T230801Z
UID:10001973-1797501600-1797508800@segwinnettcoop.org
SUMMARY:Donations Accepted
DESCRIPTION:
URL:https://segwinnettcoop.org/event/donations-accepted-2/2026-12-17/
LOCATION:Southeast Gwinnett Coop\, 55 Grayson Industrial Parkway\, Grayson\, GA\, 30017\, United States
CATEGORIES:Donations
ORGANIZER;CN="Southeast Gwinnett Coop":MAILTO:info@segwinnettcoop.org
END:VEVENT
BEGIN:VEVENT
DTSTART;TZID=America/New_York:20261218T090000
DTEND;TZID=America/New_York:20261218T120000
DTSTAMP:20260424T234130
CREATED:20250811T225438Z
LAST-MODIFIED:20250811T231711Z
UID:10004526-1797584400-1797595200@segwinnettcoop.org
SUMMARY:Pantry Assistance
DESCRIPTION:Please bring a current piece of mail.  We are first come / first serve.
URL:https://segwinnettcoop.org/event/pantry-assistance-3/2026-12-18/
LOCATION:GA
CATEGORIES:Pantry
END:VEVENT
BEGIN:VEVENT
DTSTART;TZID=America/New_York:20261219T100000
DTEND;TZID=America/New_York:20261219T120000
DTSTAMP:20260424T234130
CREATED:20250811T230800Z
LAST-MODIFIED:20250811T230801Z
UID:10001974-1797674400-1797681600@segwinnettcoop.org
SUMMARY:Donations Accepted
DESCRIPTION:
URL:https://segwinnettcoop.org/event/donations-accepted-2/2026-12-19/
LOCATION:Southeast Gwinnett Coop\, 55 Grayson Industrial Parkway\, Grayson\, GA\, 30017\, United States
CATEGORIES:Donations
ORGANIZER;CN="Southeast Gwinnett Coop":MAILTO:info@segwinnettcoop.org
END:VEVENT
BEGIN:VEVENT
DTSTART;TZID=America/New_York:20261219T160000
DTEND;TZID=America/New_York:20261219T180000
DTSTAMP:20260424T234130
CREATED:20250811T220046Z
LAST-MODIFIED:20250811T221718Z
UID:10003238-1797696000-1797703200@segwinnettcoop.org
SUMMARY:Gather at Table Community Dinner
DESCRIPTION:Enjoy free food\, music\, and a message of HOPE.
URL:https://segwinnettcoop.org/event/gather-at-table-community-dinner-2/2026-12-19/
LOCATION:Southeast Gwinnett Coop\, 55 Grayson Industrial Parkway\, Grayson\, GA\, 30017\, United States
CATEGORIES:Community,Fellowship,Worship
END:VEVENT
BEGIN:VEVENT
DTSTART;TZID=America/New_York:20261221T100000
DTEND;TZID=America/New_York:20261221T120000
DTSTAMP:20260424T234130
CREATED:20250811T230800Z
LAST-MODIFIED:20250811T230801Z
UID:10001975-1797847200-1797854400@segwinnettcoop.org
SUMMARY:Donations Accepted
DESCRIPTION:
URL:https://segwinnettcoop.org/event/donations-accepted-2/2026-12-21/
LOCATION:Southeast Gwinnett Coop\, 55 Grayson Industrial Parkway\, Grayson\, GA\, 30017\, United States
CATEGORIES:Donations
ORGANIZER;CN="Southeast Gwinnett Coop":MAILTO:info@segwinnettcoop.org
END:VEVENT
BEGIN:VEVENT
DTSTART;TZID=America/New_York:20261221T150000
DTEND;TZID=America/New_York:20261221T190000
DTSTAMP:20260424T234130
CREATED:20250811T231138Z
LAST-MODIFIED:20250811T231139Z
UID:10004005-1797865200-1797879600@segwinnettcoop.org
SUMMARY:Pantry Assistance
DESCRIPTION:Please bring a picture id and a current piece of mail.  We are first come / first serve.
URL:https://segwinnettcoop.org/event/pantry-assistance-4/2026-12-21/
LOCATION:Southeast Gwinnett Coop\, 55 Grayson Industrial Parkway\, Grayson\, GA\, 30017\, United States
CATEGORIES:Pantry
ORGANIZER;CN="Southeast Gwinnett Coop":MAILTO:info@segwinnettcoop.org
END:VEVENT
BEGIN:VEVENT
DTSTART;TZID=America/New_York:20261222T100000
DTEND;TZID=America/New_York:20261222T120000
DTSTAMP:20260424T234130
CREATED:20250811T230800Z
LAST-MODIFIED:20250811T230801Z
UID:10001976-1797933600-1797940800@segwinnettcoop.org
SUMMARY:Donations Accepted
DESCRIPTION:
URL:https://segwinnettcoop.org/event/donations-accepted-2/2026-12-22/
LOCATION:Southeast Gwinnett Coop\, 55 Grayson Industrial Parkway\, Grayson\, GA\, 30017\, United States
CATEGORIES:Donations
ORGANIZER;CN="Southeast Gwinnett Coop":MAILTO:info@segwinnettcoop.org
END:VEVENT
BEGIN:VEVENT
DTSTART;TZID=America/New_York:20261223T090000
DTEND;TZID=America/New_York:20261223T120000
DTSTAMP:20260424T234130
CREATED:20250811T225134Z
LAST-MODIFIED:20250811T231631Z
UID:10004266-1798016400-1798027200@segwinnettcoop.org
SUMMARY:Pantry Assistance
DESCRIPTION:Please bring a picture id and a current piece of mail.  We are first come / first serve.
URL:https://segwinnettcoop.org/event/pantry-assistance-2/2026-12-23/
LOCATION:GA
CATEGORIES:Pantry
END:VEVENT
BEGIN:VEVENT
DTSTART;TZID=America/New_York:20261224T100000
DTEND;TZID=America/New_York:20261224T120000
DTSTAMP:20260424T234130
CREATED:20250811T230800Z
LAST-MODIFIED:20250811T230801Z
UID:10001977-1798106400-1798113600@segwinnettcoop.org
SUMMARY:Donations Accepted
DESCRIPTION:
URL:https://segwinnettcoop.org/event/donations-accepted-2/2026-12-24/
LOCATION:Southeast Gwinnett Coop\, 55 Grayson Industrial Parkway\, Grayson\, GA\, 30017\, United States
CATEGORIES:Donations
ORGANIZER;CN="Southeast Gwinnett Coop":MAILTO:info@segwinnettcoop.org
END:VEVENT
BEGIN:VEVENT
DTSTART;TZID=America/New_York:20261225T090000
DTEND;TZID=America/New_York:20261225T120000
DTSTAMP:20260424T234130
CREATED:20250811T225438Z
LAST-MODIFIED:20250811T231711Z
UID:10004527-1798189200-1798200000@segwinnettcoop.org
SUMMARY:Pantry Assistance
DESCRIPTION:Please bring a current piece of mail.  We are first come / first serve.
URL:https://segwinnettcoop.org/event/pantry-assistance-3/2026-12-25/
LOCATION:GA
CATEGORIES:Pantry
END:VEVENT
BEGIN:VEVENT
DTSTART;TZID=America/New_York:20261225T090000
DTEND;TZID=America/New_York:20261225T120000
DTSTAMP:20260424T234130
CREATED:20250812T134029Z
LAST-MODIFIED:20250812T134032Z
UID:10002651-1798189200-1798200000@segwinnettcoop.org
SUMMARY:Benefits Outreach
DESCRIPTION:Sponsored by Atlanta Community Food Bank\nAre You Eligible? \n\nFood Stamps\nMedicaid Assistance\nTANF\nWIC\nCAPS\nSpecial Help for Medicare Recipients\n\nDocuments to Bring: \nPhoto ID\, Birth Certificate\, Lease\, Award Letter for Social Security and/or S.S.I.\, and other unearned inform\, Pay Stubs for the last month (if applicable)\, Utility Bills\, and any Medical Bills.
URL:https://segwinnettcoop.org/event/benefits-outreach-2-2-2/2026-12-25/
LOCATION:Southeast Gwinnett Coop\, 55 Grayson Industrial Parkway\, Grayson\, GA\, 30017\, United States
CATEGORIES:Benefits and Informational
ORGANIZER;CN="Atlanta Community Food Bank":MAILTO:outreach@acfb.org
END:VEVENT
BEGIN:VEVENT
DTSTART;TZID=America/New_York:20261226T100000
DTEND;TZID=America/New_York:20261226T120000
DTSTAMP:20260424T234130
CREATED:20250811T230800Z
LAST-MODIFIED:20250811T230801Z
UID:10001978-1798279200-1798286400@segwinnettcoop.org
SUMMARY:Donations Accepted
DESCRIPTION:
URL:https://segwinnettcoop.org/event/donations-accepted-2/2026-12-26/
LOCATION:Southeast Gwinnett Coop\, 55 Grayson Industrial Parkway\, Grayson\, GA\, 30017\, United States
CATEGORIES:Donations
ORGANIZER;CN="Southeast Gwinnett Coop":MAILTO:info@segwinnettcoop.org
END:VEVENT
BEGIN:VEVENT
DTSTART;TZID=America/New_York:20261228T100000
DTEND;TZID=America/New_York:20261228T120000
DTSTAMP:20260424T234130
CREATED:20250811T230800Z
LAST-MODIFIED:20250811T230801Z
UID:10001979-1798452000-1798459200@segwinnettcoop.org
SUMMARY:Donations Accepted
DESCRIPTION:
URL:https://segwinnettcoop.org/event/donations-accepted-2/2026-12-28/
LOCATION:Southeast Gwinnett Coop\, 55 Grayson Industrial Parkway\, Grayson\, GA\, 30017\, United States
CATEGORIES:Donations
ORGANIZER;CN="Southeast Gwinnett Coop":MAILTO:info@segwinnettcoop.org
END:VEVENT
BEGIN:VEVENT
DTSTART;TZID=America/New_York:20261228T150000
DTEND;TZID=America/New_York:20261228T190000
DTSTAMP:20260424T234130
CREATED:20250811T231138Z
LAST-MODIFIED:20250811T231139Z
UID:10004006-1798470000-1798484400@segwinnettcoop.org
SUMMARY:Pantry Assistance
DESCRIPTION:Please bring a picture id and a current piece of mail.  We are first come / first serve.
URL:https://segwinnettcoop.org/event/pantry-assistance-4/2026-12-28/
LOCATION:Southeast Gwinnett Coop\, 55 Grayson Industrial Parkway\, Grayson\, GA\, 30017\, United States
CATEGORIES:Pantry
ORGANIZER;CN="Southeast Gwinnett Coop":MAILTO:info@segwinnettcoop.org
END:VEVENT
BEGIN:VEVENT
DTSTART;TZID=America/New_York:20261229T100000
DTEND;TZID=America/New_York:20261229T120000
DTSTAMP:20260424T234130
CREATED:20250811T230800Z
LAST-MODIFIED:20250811T230801Z
UID:10001980-1798538400-1798545600@segwinnettcoop.org
SUMMARY:Donations Accepted
DESCRIPTION:
URL:https://segwinnettcoop.org/event/donations-accepted-2/2026-12-29/
LOCATION:Southeast Gwinnett Coop\, 55 Grayson Industrial Parkway\, Grayson\, GA\, 30017\, United States
CATEGORIES:Donations
ORGANIZER;CN="Southeast Gwinnett Coop":MAILTO:info@segwinnettcoop.org
END:VEVENT
BEGIN:VEVENT
DTSTART;TZID=America/New_York:20261230T090000
DTEND;TZID=America/New_York:20261230T120000
DTSTAMP:20260424T234130
CREATED:20250811T225134Z
LAST-MODIFIED:20250811T231631Z
UID:10004267-1798621200-1798632000@segwinnettcoop.org
SUMMARY:Pantry Assistance
DESCRIPTION:Please bring a picture id and a current piece of mail.  We are first come / first serve.
URL:https://segwinnettcoop.org/event/pantry-assistance-2/2026-12-30/
LOCATION:GA
CATEGORIES:Pantry
END:VEVENT
BEGIN:VEVENT
DTSTART;TZID=America/New_York:20261231T100000
DTEND;TZID=America/New_York:20261231T120000
DTSTAMP:20260424T234130
CREATED:20250811T230800Z
LAST-MODIFIED:20250811T230801Z
UID:10001981-1798711200-1798718400@segwinnettcoop.org
SUMMARY:Donations Accepted
DESCRIPTION:
URL:https://segwinnettcoop.org/event/donations-accepted-2/2026-12-31/
LOCATION:Southeast Gwinnett Coop\, 55 Grayson Industrial Parkway\, Grayson\, GA\, 30017\, United States
CATEGORIES:Donations
ORGANIZER;CN="Southeast Gwinnett Coop":MAILTO:info@segwinnettcoop.org
END:VEVENT
BEGIN:VEVENT
DTSTART;TZID=America/New_York:20270101T090000
DTEND;TZID=America/New_York:20270101T120000
DTSTAMP:20260424T234130
CREATED:20250811T225438Z
LAST-MODIFIED:20250811T231711Z
UID:10004528-1798794000-1798804800@segwinnettcoop.org
SUMMARY:Pantry Assistance
DESCRIPTION:Please bring a current piece of mail.  We are first come / first serve.
URL:https://segwinnettcoop.org/event/pantry-assistance-3/2027-01-01/
LOCATION:GA
CATEGORIES:Pantry
END:VEVENT
END:VCALENDAR