BEGIN:VCALENDAR
VERSION:2.0
PRODID:-//Southeast Gwinnett Cooperative Ministry - ECPv6.15.20//NONSGML v1.0//EN
CALSCALE:GREGORIAN
METHOD:PUBLISH
X-WR-CALNAME:Southeast Gwinnett Cooperative Ministry
X-ORIGINAL-URL:https://segwinnettcoop.org
X-WR-CALDESC:Events for Southeast Gwinnett Cooperative Ministry
REFRESH-INTERVAL;VALUE=DURATION:PT1H
X-Robots-Tag:noindex
X-PUBLISHED-TTL:PT1H
BEGIN:VTIMEZONE
TZID:America/New_York
BEGIN:DAYLIGHT
TZOFFSETFROM:-0500
TZOFFSETTO:-0400
TZNAME:EDT
DTSTART:20250309T070000
END:DAYLIGHT
BEGIN:STANDARD
TZOFFSETFROM:-0400
TZOFFSETTO:-0500
TZNAME:EST
DTSTART:20251102T060000
END:STANDARD
BEGIN:DAYLIGHT
TZOFFSETFROM:-0500
TZOFFSETTO:-0400
TZNAME:EDT
DTSTART:20260308T070000
END:DAYLIGHT
BEGIN:STANDARD
TZOFFSETFROM:-0400
TZOFFSETTO:-0500
TZNAME:EST
DTSTART:20261101T060000
END:STANDARD
BEGIN:DAYLIGHT
TZOFFSETFROM:-0500
TZOFFSETTO:-0400
TZNAME:EDT
DTSTART:20270314T070000
END:DAYLIGHT
BEGIN:STANDARD
TZOFFSETFROM:-0400
TZOFFSETTO:-0500
TZNAME:EST
DTSTART:20271107T060000
END:STANDARD
END:VTIMEZONE
BEGIN:VEVENT
DTSTART;TZID=America/New_York:20260411T100000
DTEND;TZID=America/New_York:20260411T120000
DTSTAMP:20260424T121528
CREATED:20250811T230800Z
LAST-MODIFIED:20250811T230801Z
UID:10001830-1775901600-1775908800@segwinnettcoop.org
SUMMARY:Donations Accepted
DESCRIPTION:
URL:https://segwinnettcoop.org/event/donations-accepted-2/2026-04-11/
LOCATION:Southeast Gwinnett Coop\, 55 Grayson Industrial Parkway\, Grayson\, GA\, 30017\, United States
CATEGORIES:Donations
ORGANIZER;CN="Southeast Gwinnett Coop":MAILTO:info@segwinnettcoop.org
END:VEVENT
BEGIN:VEVENT
DTSTART;TZID=America/New_York:20260410T090000
DTEND;TZID=America/New_York:20260410T120000
DTSTAMP:20260424T121528
CREATED:20250811T225438Z
LAST-MODIFIED:20250811T231711Z
UID:10004490-1775811600-1775822400@segwinnettcoop.org
SUMMARY:Pantry Assistance
DESCRIPTION:Please bring a current piece of mail.  We are first come / first serve.
URL:https://segwinnettcoop.org/event/pantry-assistance-3/2026-04-10/
LOCATION:GA
CATEGORIES:Pantry
END:VEVENT
BEGIN:VEVENT
DTSTART;TZID=America/New_York:20260410T090000
DTEND;TZID=America/New_York:20260410T120000
DTSTAMP:20260424T121528
CREATED:20230518T224922Z
LAST-MODIFIED:20230609T161531Z
UID:10002723-1775811600-1775822400@segwinnettcoop.org
SUMMARY:Benefits Outreach
DESCRIPTION:Sponsored by Atlanta Community Food Bank\nAre You Eligible? \n\nFood Stamps\nMedicaid Assistance\nTANF\nWIC\nCAPS\nSpecial Help for Medicare Recipients\n\nDocuments to Bring: \nPhoto ID\, Birth Certificate\, Lease\, Award Letter for Social Security and/or S.S.I.\, and other unearned inform\, Pay Stubs for the last month (if applicable)\, Utility Bills\, and any Medical Bills.
URL:https://segwinnettcoop.org/event/benefits-outreach-2/2026-04-10/
LOCATION:Southeast Gwinnett Coop\, 55 Grayson Industrial Parkway\, Grayson\, GA\, 30017\, United States
CATEGORIES:Benefits and Informational
ORGANIZER;CN="Atlanta Community Food Bank":MAILTO:outreach@acfb.org
END:VEVENT
BEGIN:VEVENT
DTSTART;TZID=America/New_York:20260409T100000
DTEND;TZID=America/New_York:20260409T120000
DTSTAMP:20260424T121528
CREATED:20250811T230800Z
LAST-MODIFIED:20250811T230801Z
UID:10001829-1775728800-1775736000@segwinnettcoop.org
SUMMARY:Donations Accepted
DESCRIPTION:
URL:https://segwinnettcoop.org/event/donations-accepted-2/2026-04-09/
LOCATION:Southeast Gwinnett Coop\, 55 Grayson Industrial Parkway\, Grayson\, GA\, 30017\, United States
CATEGORIES:Donations
ORGANIZER;CN="Southeast Gwinnett Coop":MAILTO:info@segwinnettcoop.org
END:VEVENT
BEGIN:VEVENT
DTSTART;TZID=America/New_York:20260408T090000
DTEND;TZID=America/New_York:20260408T120000
DTSTAMP:20260424T121528
CREATED:20250811T225134Z
LAST-MODIFIED:20250811T231631Z
UID:10004229-1775638800-1775649600@segwinnettcoop.org
SUMMARY:Pantry Assistance
DESCRIPTION:Please bring a picture id and a current piece of mail.  We are first come / first serve.
URL:https://segwinnettcoop.org/event/pantry-assistance-2/2026-04-08/
LOCATION:GA
CATEGORIES:Pantry
END:VEVENT
BEGIN:VEVENT
DTSTART;TZID=America/New_York:20260407T100000
DTEND;TZID=America/New_York:20260407T120000
DTSTAMP:20260424T121528
CREATED:20250811T230800Z
LAST-MODIFIED:20250811T230801Z
UID:10001828-1775556000-1775563200@segwinnettcoop.org
SUMMARY:Donations Accepted
DESCRIPTION:
URL:https://segwinnettcoop.org/event/donations-accepted-2/2026-04-07/
LOCATION:Southeast Gwinnett Coop\, 55 Grayson Industrial Parkway\, Grayson\, GA\, 30017\, United States
CATEGORIES:Donations
ORGANIZER;CN="Southeast Gwinnett Coop":MAILTO:info@segwinnettcoop.org
END:VEVENT
BEGIN:VEVENT
DTSTART;TZID=America/New_York:20260406T150000
DTEND;TZID=America/New_York:20260406T190000
DTSTAMP:20260424T121528
CREATED:20250811T231138Z
LAST-MODIFIED:20250811T231139Z
UID:10003968-1775487600-1775502000@segwinnettcoop.org
SUMMARY:Pantry Assistance
DESCRIPTION:Please bring a picture id and a current piece of mail.  We are first come / first serve.
URL:https://segwinnettcoop.org/event/pantry-assistance-4/2026-04-06/
LOCATION:Southeast Gwinnett Coop\, 55 Grayson Industrial Parkway\, Grayson\, GA\, 30017\, United States
CATEGORIES:Pantry
ORGANIZER;CN="Southeast Gwinnett Coop":MAILTO:info@segwinnettcoop.org
END:VEVENT
BEGIN:VEVENT
DTSTART;TZID=America/New_York:20260406T100000
DTEND;TZID=America/New_York:20260406T120000
DTSTAMP:20260424T121528
CREATED:20250811T230800Z
LAST-MODIFIED:20250811T230801Z
UID:10001827-1775469600-1775476800@segwinnettcoop.org
SUMMARY:Donations Accepted
DESCRIPTION:
URL:https://segwinnettcoop.org/event/donations-accepted-2/2026-04-06/
LOCATION:Southeast Gwinnett Coop\, 55 Grayson Industrial Parkway\, Grayson\, GA\, 30017\, United States
CATEGORIES:Donations
ORGANIZER;CN="Southeast Gwinnett Coop":MAILTO:info@segwinnettcoop.org
END:VEVENT
BEGIN:VEVENT
DTSTART;TZID=America/New_York:20260404T100000
DTEND;TZID=America/New_York:20260404T120000
DTSTAMP:20260424T121528
CREATED:20250811T230800Z
LAST-MODIFIED:20250811T230801Z
UID:10001826-1775296800-1775304000@segwinnettcoop.org
SUMMARY:Donations Accepted
DESCRIPTION:
URL:https://segwinnettcoop.org/event/donations-accepted-2/2026-04-04/
LOCATION:Southeast Gwinnett Coop\, 55 Grayson Industrial Parkway\, Grayson\, GA\, 30017\, United States
CATEGORIES:Donations
ORGANIZER;CN="Southeast Gwinnett Coop":MAILTO:info@segwinnettcoop.org
END:VEVENT
BEGIN:VEVENT
DTSTART;TZID=America/New_York:20260403T090000
DTEND;TZID=America/New_York:20260403T120000
DTSTAMP:20260424T121528
CREATED:20250811T225438Z
LAST-MODIFIED:20250811T231711Z
UID:10004489-1775206800-1775217600@segwinnettcoop.org
SUMMARY:Pantry Assistance
DESCRIPTION:Please bring a current piece of mail.  We are first come / first serve.
URL:https://segwinnettcoop.org/event/pantry-assistance-3/2026-04-03/
LOCATION:GA
CATEGORIES:Pantry
END:VEVENT
BEGIN:VEVENT
DTSTART;TZID=America/New_York:20260402T100000
DTEND;TZID=America/New_York:20260402T120000
DTSTAMP:20260424T121528
CREATED:20250811T230800Z
LAST-MODIFIED:20250811T230801Z
UID:10001825-1775124000-1775131200@segwinnettcoop.org
SUMMARY:Donations Accepted
DESCRIPTION:
URL:https://segwinnettcoop.org/event/donations-accepted-2/2026-04-02/
LOCATION:Southeast Gwinnett Coop\, 55 Grayson Industrial Parkway\, Grayson\, GA\, 30017\, United States
CATEGORIES:Donations
ORGANIZER;CN="Southeast Gwinnett Coop":MAILTO:info@segwinnettcoop.org
END:VEVENT
BEGIN:VEVENT
DTSTART;TZID=America/New_York:20260401T090000
DTEND;TZID=America/New_York:20260401T120000
DTSTAMP:20260424T121528
CREATED:20250811T225134Z
LAST-MODIFIED:20250811T231631Z
UID:10004228-1775034000-1775044800@segwinnettcoop.org
SUMMARY:Pantry Assistance
DESCRIPTION:Please bring a picture id and a current piece of mail.  We are first come / first serve.
URL:https://segwinnettcoop.org/event/pantry-assistance-2/2026-04-01/
LOCATION:GA
CATEGORIES:Pantry
END:VEVENT
BEGIN:VEVENT
DTSTART;TZID=America/New_York:20260331T100000
DTEND;TZID=America/New_York:20260331T120000
DTSTAMP:20260424T121528
CREATED:20250811T230800Z
LAST-MODIFIED:20250811T230801Z
UID:10001824-1774951200-1774958400@segwinnettcoop.org
SUMMARY:Donations Accepted
DESCRIPTION:
URL:https://segwinnettcoop.org/event/donations-accepted-2/2026-03-31/
LOCATION:Southeast Gwinnett Coop\, 55 Grayson Industrial Parkway\, Grayson\, GA\, 30017\, United States
CATEGORIES:Donations
ORGANIZER;CN="Southeast Gwinnett Coop":MAILTO:info@segwinnettcoop.org
END:VEVENT
BEGIN:VEVENT
DTSTART;TZID=America/New_York:20260330T150000
DTEND;TZID=America/New_York:20260330T190000
DTSTAMP:20260424T121528
CREATED:20250811T231138Z
LAST-MODIFIED:20250811T231139Z
UID:10003967-1774882800-1774897200@segwinnettcoop.org
SUMMARY:Pantry Assistance
DESCRIPTION:Please bring a picture id and a current piece of mail.  We are first come / first serve.
URL:https://segwinnettcoop.org/event/pantry-assistance-4/2026-03-30/
LOCATION:Southeast Gwinnett Coop\, 55 Grayson Industrial Parkway\, Grayson\, GA\, 30017\, United States
CATEGORIES:Pantry
ORGANIZER;CN="Southeast Gwinnett Coop":MAILTO:info@segwinnettcoop.org
END:VEVENT
BEGIN:VEVENT
DTSTART;TZID=America/New_York:20260330T100000
DTEND;TZID=America/New_York:20260330T120000
DTSTAMP:20260424T121528
CREATED:20250811T230800Z
LAST-MODIFIED:20250811T230801Z
UID:10001823-1774864800-1774872000@segwinnettcoop.org
SUMMARY:Donations Accepted
DESCRIPTION:
URL:https://segwinnettcoop.org/event/donations-accepted-2/2026-03-30/
LOCATION:Southeast Gwinnett Coop\, 55 Grayson Industrial Parkway\, Grayson\, GA\, 30017\, United States
CATEGORIES:Donations
ORGANIZER;CN="Southeast Gwinnett Coop":MAILTO:info@segwinnettcoop.org
END:VEVENT
BEGIN:VEVENT
DTSTART;TZID=America/New_York:20260328T100000
DTEND;TZID=America/New_York:20260328T120000
DTSTAMP:20260424T121528
CREATED:20250811T230800Z
LAST-MODIFIED:20250811T230801Z
UID:10001822-1774692000-1774699200@segwinnettcoop.org
SUMMARY:Donations Accepted
DESCRIPTION:
URL:https://segwinnettcoop.org/event/donations-accepted-2/2026-03-28/
LOCATION:Southeast Gwinnett Coop\, 55 Grayson Industrial Parkway\, Grayson\, GA\, 30017\, United States
CATEGORIES:Donations
ORGANIZER;CN="Southeast Gwinnett Coop":MAILTO:info@segwinnettcoop.org
END:VEVENT
BEGIN:VEVENT
DTSTART;TZID=America/New_York:20260327T090000
DTEND;TZID=America/New_York:20260327T120000
DTSTAMP:20260424T121528
CREATED:20250812T134029Z
LAST-MODIFIED:20250812T134032Z
UID:10002766-1774602000-1774612800@segwinnettcoop.org
SUMMARY:Benefits Outreach
DESCRIPTION:Sponsored by Atlanta Community Food Bank\nAre You Eligible? \n\nFood Stamps\nMedicaid Assistance\nTANF\nWIC\nCAPS\nSpecial Help for Medicare Recipients\n\nDocuments to Bring: \nPhoto ID\, Birth Certificate\, Lease\, Award Letter for Social Security and/or S.S.I.\, and other unearned inform\, Pay Stubs for the last month (if applicable)\, Utility Bills\, and any Medical Bills.
URL:https://segwinnettcoop.org/event/benefits-outreach-2-2-2/2026-03-27/
LOCATION:Southeast Gwinnett Coop\, 55 Grayson Industrial Parkway\, Grayson\, GA\, 30017\, United States
CATEGORIES:Benefits and Informational
ORGANIZER;CN="Atlanta Community Food Bank":MAILTO:outreach@acfb.org
END:VEVENT
BEGIN:VEVENT
DTSTART;TZID=America/New_York:20260327T090000
DTEND;TZID=America/New_York:20260327T120000
DTSTAMP:20260424T121528
CREATED:20250811T225438Z
LAST-MODIFIED:20250811T231711Z
UID:10004488-1774602000-1774612800@segwinnettcoop.org
SUMMARY:Pantry Assistance
DESCRIPTION:Please bring a current piece of mail.  We are first come / first serve.
URL:https://segwinnettcoop.org/event/pantry-assistance-3/2026-03-27/
LOCATION:GA
CATEGORIES:Pantry
END:VEVENT
BEGIN:VEVENT
DTSTART;TZID=America/New_York:20260326T100000
DTEND;TZID=America/New_York:20260326T120000
DTSTAMP:20260424T121528
CREATED:20250811T230800Z
LAST-MODIFIED:20250811T230801Z
UID:10001821-1774519200-1774526400@segwinnettcoop.org
SUMMARY:Donations Accepted
DESCRIPTION:
URL:https://segwinnettcoop.org/event/donations-accepted-2/2026-03-26/
LOCATION:Southeast Gwinnett Coop\, 55 Grayson Industrial Parkway\, Grayson\, GA\, 30017\, United States
CATEGORIES:Donations
ORGANIZER;CN="Southeast Gwinnett Coop":MAILTO:info@segwinnettcoop.org
END:VEVENT
BEGIN:VEVENT
DTSTART;TZID=America/New_York:20260325T090000
DTEND;TZID=America/New_York:20260325T120000
DTSTAMP:20260424T121528
CREATED:20250811T225134Z
LAST-MODIFIED:20250811T231631Z
UID:10004227-1774429200-1774440000@segwinnettcoop.org
SUMMARY:Pantry Assistance
DESCRIPTION:Please bring a picture id and a current piece of mail.  We are first come / first serve.
URL:https://segwinnettcoop.org/event/pantry-assistance-2/2026-03-25/
LOCATION:GA
CATEGORIES:Pantry
END:VEVENT
BEGIN:VEVENT
DTSTART;TZID=America/New_York:20260324T100000
DTEND;TZID=America/New_York:20260324T120000
DTSTAMP:20260424T121528
CREATED:20250811T230800Z
LAST-MODIFIED:20250811T230801Z
UID:10001820-1774346400-1774353600@segwinnettcoop.org
SUMMARY:Donations Accepted
DESCRIPTION:
URL:https://segwinnettcoop.org/event/donations-accepted-2/2026-03-24/
LOCATION:Southeast Gwinnett Coop\, 55 Grayson Industrial Parkway\, Grayson\, GA\, 30017\, United States
CATEGORIES:Donations
ORGANIZER;CN="Southeast Gwinnett Coop":MAILTO:info@segwinnettcoop.org
END:VEVENT
BEGIN:VEVENT
DTSTART;TZID=America/New_York:20260323T150000
DTEND;TZID=America/New_York:20260323T190000
DTSTAMP:20260424T121528
CREATED:20250811T231138Z
LAST-MODIFIED:20250811T231139Z
UID:10003966-1774278000-1774292400@segwinnettcoop.org
SUMMARY:Pantry Assistance
DESCRIPTION:Please bring a picture id and a current piece of mail.  We are first come / first serve.
URL:https://segwinnettcoop.org/event/pantry-assistance-4/2026-03-23/
LOCATION:Southeast Gwinnett Coop\, 55 Grayson Industrial Parkway\, Grayson\, GA\, 30017\, United States
CATEGORIES:Pantry
ORGANIZER;CN="Southeast Gwinnett Coop":MAILTO:info@segwinnettcoop.org
END:VEVENT
BEGIN:VEVENT
DTSTART;TZID=America/New_York:20260323T100000
DTEND;TZID=America/New_York:20260323T120000
DTSTAMP:20260424T121528
CREATED:20250811T230800Z
LAST-MODIFIED:20250811T230801Z
UID:10001819-1774260000-1774267200@segwinnettcoop.org
SUMMARY:Donations Accepted
DESCRIPTION:
URL:https://segwinnettcoop.org/event/donations-accepted-2/2026-03-23/
LOCATION:Southeast Gwinnett Coop\, 55 Grayson Industrial Parkway\, Grayson\, GA\, 30017\, United States
CATEGORIES:Donations
ORGANIZER;CN="Southeast Gwinnett Coop":MAILTO:info@segwinnettcoop.org
END:VEVENT
BEGIN:VEVENT
DTSTART;TZID=America/New_York:20260321T160000
DTEND;TZID=America/New_York:20260321T180000
DTSTAMP:20260424T121528
CREATED:20250811T220046Z
LAST-MODIFIED:20250811T221718Z
UID:10003229-1774108800-1774116000@segwinnettcoop.org
SUMMARY:Gather at Table Community Dinner
DESCRIPTION:Enjoy free food\, music\, and a message of HOPE.
URL:https://segwinnettcoop.org/event/gather-at-table-community-dinner-2/2026-03-21/
LOCATION:Southeast Gwinnett Coop\, 55 Grayson Industrial Parkway\, Grayson\, GA\, 30017\, United States
CATEGORIES:Community,Fellowship,Worship
END:VEVENT
BEGIN:VEVENT
DTSTART;TZID=America/New_York:20260321T100000
DTEND;TZID=America/New_York:20260321T120000
DTSTAMP:20260424T121528
CREATED:20250811T230800Z
LAST-MODIFIED:20250811T230801Z
UID:10001818-1774087200-1774094400@segwinnettcoop.org
SUMMARY:Donations Accepted
DESCRIPTION:
URL:https://segwinnettcoop.org/event/donations-accepted-2/2026-03-21/
LOCATION:Southeast Gwinnett Coop\, 55 Grayson Industrial Parkway\, Grayson\, GA\, 30017\, United States
CATEGORIES:Donations
ORGANIZER;CN="Southeast Gwinnett Coop":MAILTO:info@segwinnettcoop.org
END:VEVENT
BEGIN:VEVENT
DTSTART;TZID=America/New_York:20260320T090000
DTEND;TZID=America/New_York:20260320T120000
DTSTAMP:20260424T121528
CREATED:20250811T225438Z
LAST-MODIFIED:20250811T231711Z
UID:10004487-1773997200-1774008000@segwinnettcoop.org
SUMMARY:Pantry Assistance
DESCRIPTION:Please bring a current piece of mail.  We are first come / first serve.
URL:https://segwinnettcoop.org/event/pantry-assistance-3/2026-03-20/
LOCATION:GA
CATEGORIES:Pantry
END:VEVENT
BEGIN:VEVENT
DTSTART;TZID=America/New_York:20260319T100000
DTEND;TZID=America/New_York:20260319T120000
DTSTAMP:20260424T121528
CREATED:20250811T230800Z
LAST-MODIFIED:20250811T230801Z
UID:10001817-1773914400-1773921600@segwinnettcoop.org
SUMMARY:Donations Accepted
DESCRIPTION:
URL:https://segwinnettcoop.org/event/donations-accepted-2/2026-03-19/
LOCATION:Southeast Gwinnett Coop\, 55 Grayson Industrial Parkway\, Grayson\, GA\, 30017\, United States
CATEGORIES:Donations
ORGANIZER;CN="Southeast Gwinnett Coop":MAILTO:info@segwinnettcoop.org
END:VEVENT
BEGIN:VEVENT
DTSTART;TZID=America/New_York:20260318T090000
DTEND;TZID=America/New_York:20260318T120000
DTSTAMP:20260424T121528
CREATED:20250811T225134Z
LAST-MODIFIED:20250811T231631Z
UID:10004226-1773824400-1773835200@segwinnettcoop.org
SUMMARY:Pantry Assistance
DESCRIPTION:Please bring a picture id and a current piece of mail.  We are first come / first serve.
URL:https://segwinnettcoop.org/event/pantry-assistance-2/2026-03-18/
LOCATION:GA
CATEGORIES:Pantry
END:VEVENT
BEGIN:VEVENT
DTSTART;TZID=America/New_York:20260317T100000
DTEND;TZID=America/New_York:20260317T120000
DTSTAMP:20260424T121528
CREATED:20250811T230800Z
LAST-MODIFIED:20250811T230801Z
UID:10001816-1773741600-1773748800@segwinnettcoop.org
SUMMARY:Donations Accepted
DESCRIPTION:
URL:https://segwinnettcoop.org/event/donations-accepted-2/2026-03-17/
LOCATION:Southeast Gwinnett Coop\, 55 Grayson Industrial Parkway\, Grayson\, GA\, 30017\, United States
CATEGORIES:Donations
ORGANIZER;CN="Southeast Gwinnett Coop":MAILTO:info@segwinnettcoop.org
END:VEVENT
BEGIN:VEVENT
DTSTART;TZID=America/New_York:20260316T150000
DTEND;TZID=America/New_York:20260316T190000
DTSTAMP:20260424T121528
CREATED:20250811T231138Z
LAST-MODIFIED:20250811T231139Z
UID:10003965-1773673200-1773687600@segwinnettcoop.org
SUMMARY:Pantry Assistance
DESCRIPTION:Please bring a picture id and a current piece of mail.  We are first come / first serve.
URL:https://segwinnettcoop.org/event/pantry-assistance-4/2026-03-16/
LOCATION:Southeast Gwinnett Coop\, 55 Grayson Industrial Parkway\, Grayson\, GA\, 30017\, United States
CATEGORIES:Pantry
ORGANIZER;CN="Southeast Gwinnett Coop":MAILTO:info@segwinnettcoop.org
END:VEVENT
END:VCALENDAR