BEGIN:VCALENDAR
VERSION:2.0
PRODID:-//Southeast Gwinnett Cooperative Ministry - ECPv6.15.20//NONSGML v1.0//EN
CALSCALE:GREGORIAN
METHOD:PUBLISH
X-WR-CALNAME:Southeast Gwinnett Cooperative Ministry
X-ORIGINAL-URL:https://segwinnettcoop.org
X-WR-CALDESC:Events for Southeast Gwinnett Cooperative Ministry
REFRESH-INTERVAL;VALUE=DURATION:PT1H
X-Robots-Tag:noindex
X-PUBLISHED-TTL:PT1H
BEGIN:VTIMEZONE
TZID:America/New_York
BEGIN:DAYLIGHT
TZOFFSETFROM:-0500
TZOFFSETTO:-0400
TZNAME:EDT
DTSTART:20270314T070000
END:DAYLIGHT
BEGIN:STANDARD
TZOFFSETFROM:-0400
TZOFFSETTO:-0500
TZNAME:EST
DTSTART:20271107T060000
END:STANDARD
BEGIN:DAYLIGHT
TZOFFSETFROM:-0500
TZOFFSETTO:-0400
TZNAME:EDT
DTSTART:20280312T070000
END:DAYLIGHT
BEGIN:STANDARD
TZOFFSETFROM:-0400
TZOFFSETTO:-0500
TZNAME:EST
DTSTART:20281105T060000
END:STANDARD
BEGIN:DAYLIGHT
TZOFFSETFROM:-0500
TZOFFSETTO:-0400
TZNAME:EDT
DTSTART:20290311T070000
END:DAYLIGHT
BEGIN:STANDARD
TZOFFSETFROM:-0400
TZOFFSETTO:-0500
TZNAME:EST
DTSTART:20291104T060000
END:STANDARD
BEGIN:DAYLIGHT
TZOFFSETFROM:-0500
TZOFFSETTO:-0400
TZNAME:EDT
DTSTART:20300310T070000
END:DAYLIGHT
BEGIN:STANDARD
TZOFFSETFROM:-0400
TZOFFSETTO:-0500
TZNAME:EST
DTSTART:20301103T060000
END:STANDARD
BEGIN:DAYLIGHT
TZOFFSETFROM:-0500
TZOFFSETTO:-0400
TZNAME:EDT
DTSTART:20310309T070000
END:DAYLIGHT
BEGIN:STANDARD
TZOFFSETFROM:-0400
TZOFFSETTO:-0500
TZNAME:EST
DTSTART:20311102T060000
END:STANDARD
END:VTIMEZONE
BEGIN:VEVENT
DTSTART;TZID=America/New_York:20280526T090000
DTEND;TZID=America/New_York:20280526T120000
DTSTAMP:20260422T183915
CREATED:20250812T134029Z
LAST-MODIFIED:20250812T134032Z
UID:10002688-1842944400-1842955200@segwinnettcoop.org
SUMMARY:Benefits Outreach
DESCRIPTION:Sponsored by Atlanta Community Food Bank\nAre You Eligible? \n\nFood Stamps\nMedicaid Assistance\nTANF\nWIC\nCAPS\nSpecial Help for Medicare Recipients\n\nDocuments to Bring: \nPhoto ID\, Birth Certificate\, Lease\, Award Letter for Social Security and/or S.S.I.\, and other unearned inform\, Pay Stubs for the last month (if applicable)\, Utility Bills\, and any Medical Bills.
URL:https://segwinnettcoop.org/event/benefits-outreach-2-2-2/2028-05-26/
LOCATION:Southeast Gwinnett Coop\, 55 Grayson Industrial Parkway\, Grayson\, GA\, 30017\, United States
CATEGORIES:Benefits and Informational
ORGANIZER;CN="Atlanta Community Food Bank":MAILTO:outreach@acfb.org
END:VEVENT
BEGIN:VEVENT
DTSTART;TZID=America/New_York:20280609T090000
DTEND;TZID=America/New_York:20280609T120000
DTSTAMP:20260422T183915
CREATED:20230518T224922Z
LAST-MODIFIED:20230609T161531Z
UID:10002749-1844154000-1844164800@segwinnettcoop.org
SUMMARY:Benefits Outreach
DESCRIPTION:Sponsored by Atlanta Community Food Bank\nAre You Eligible? \n\nFood Stamps\nMedicaid Assistance\nTANF\nWIC\nCAPS\nSpecial Help for Medicare Recipients\n\nDocuments to Bring: \nPhoto ID\, Birth Certificate\, Lease\, Award Letter for Social Security and/or S.S.I.\, and other unearned inform\, Pay Stubs for the last month (if applicable)\, Utility Bills\, and any Medical Bills.
URL:https://segwinnettcoop.org/event/benefits-outreach-2/2028-06-09/
LOCATION:Southeast Gwinnett Coop\, 55 Grayson Industrial Parkway\, Grayson\, GA\, 30017\, United States
CATEGORIES:Benefits and Informational
ORGANIZER;CN="Atlanta Community Food Bank":MAILTO:outreach@acfb.org
END:VEVENT
BEGIN:VEVENT
DTSTART;TZID=America/New_York:20280623T090000
DTEND;TZID=America/New_York:20280623T120000
DTSTAMP:20260422T183915
CREATED:20250812T134029Z
LAST-MODIFIED:20250812T134032Z
UID:10004728-1845363600-1845374400@segwinnettcoop.org
SUMMARY:Benefits Outreach
DESCRIPTION:Sponsored by Atlanta Community Food Bank\nAre You Eligible? \n\nFood Stamps\nMedicaid Assistance\nTANF\nWIC\nCAPS\nSpecial Help for Medicare Recipients\n\nDocuments to Bring: \nPhoto ID\, Birth Certificate\, Lease\, Award Letter for Social Security and/or S.S.I.\, and other unearned inform\, Pay Stubs for the last month (if applicable)\, Utility Bills\, and any Medical Bills.
URL:https://segwinnettcoop.org/event/benefits-outreach-2-2-2/2028-06-23/
LOCATION:Southeast Gwinnett Coop\, 55 Grayson Industrial Parkway\, Grayson\, GA\, 30017\, United States
CATEGORIES:Benefits and Informational
ORGANIZER;CN="Atlanta Community Food Bank":MAILTO:outreach@acfb.org
END:VEVENT
BEGIN:VEVENT
DTSTART;TZID=America/New_York:20280728T090000
DTEND;TZID=America/New_York:20280728T120000
DTSTAMP:20260422T183915
CREATED:20250812T134029Z
LAST-MODIFIED:20250812T134032Z
UID:10004729-1848387600-1848398400@segwinnettcoop.org
SUMMARY:Benefits Outreach
DESCRIPTION:Sponsored by Atlanta Community Food Bank\nAre You Eligible? \n\nFood Stamps\nMedicaid Assistance\nTANF\nWIC\nCAPS\nSpecial Help for Medicare Recipients\n\nDocuments to Bring: \nPhoto ID\, Birth Certificate\, Lease\, Award Letter for Social Security and/or S.S.I.\, and other unearned inform\, Pay Stubs for the last month (if applicable)\, Utility Bills\, and any Medical Bills.
URL:https://segwinnettcoop.org/event/benefits-outreach-2-2-2/2028-07-28/
LOCATION:Southeast Gwinnett Coop\, 55 Grayson Industrial Parkway\, Grayson\, GA\, 30017\, United States
CATEGORIES:Benefits and Informational
ORGANIZER;CN="Atlanta Community Food Bank":MAILTO:outreach@acfb.org
END:VEVENT
BEGIN:VEVENT
DTSTART;TZID=America/New_York:20280825T090000
DTEND;TZID=America/New_York:20280825T120000
DTSTAMP:20260422T183915
CREATED:20250812T134029Z
LAST-MODIFIED:20250812T134032Z
UID:10004730-1850806800-1850817600@segwinnettcoop.org
SUMMARY:Benefits Outreach
DESCRIPTION:Sponsored by Atlanta Community Food Bank\nAre You Eligible? \n\nFood Stamps\nMedicaid Assistance\nTANF\nWIC\nCAPS\nSpecial Help for Medicare Recipients\n\nDocuments to Bring: \nPhoto ID\, Birth Certificate\, Lease\, Award Letter for Social Security and/or S.S.I.\, and other unearned inform\, Pay Stubs for the last month (if applicable)\, Utility Bills\, and any Medical Bills.
URL:https://segwinnettcoop.org/event/benefits-outreach-2-2-2/2028-08-25/
LOCATION:Southeast Gwinnett Coop\, 55 Grayson Industrial Parkway\, Grayson\, GA\, 30017\, United States
CATEGORIES:Benefits and Informational
ORGANIZER;CN="Atlanta Community Food Bank":MAILTO:outreach@acfb.org
END:VEVENT
BEGIN:VEVENT
DTSTART;TZID=America/New_York:20280922T090000
DTEND;TZID=America/New_York:20280922T120000
DTSTAMP:20260422T183915
CREATED:20250812T134029Z
LAST-MODIFIED:20250812T134032Z
UID:10004731-1853226000-1853236800@segwinnettcoop.org
SUMMARY:Benefits Outreach
DESCRIPTION:Sponsored by Atlanta Community Food Bank\nAre You Eligible? \n\nFood Stamps\nMedicaid Assistance\nTANF\nWIC\nCAPS\nSpecial Help for Medicare Recipients\n\nDocuments to Bring: \nPhoto ID\, Birth Certificate\, Lease\, Award Letter for Social Security and/or S.S.I.\, and other unearned inform\, Pay Stubs for the last month (if applicable)\, Utility Bills\, and any Medical Bills.
URL:https://segwinnettcoop.org/event/benefits-outreach-2-2-2/2028-09-22/
LOCATION:Southeast Gwinnett Coop\, 55 Grayson Industrial Parkway\, Grayson\, GA\, 30017\, United States
CATEGORIES:Benefits and Informational
ORGANIZER;CN="Atlanta Community Food Bank":MAILTO:outreach@acfb.org
END:VEVENT
BEGIN:VEVENT
DTSTART;TZID=America/New_York:20281027T090000
DTEND;TZID=America/New_York:20281027T120000
DTSTAMP:20260422T183915
CREATED:20250812T134029Z
LAST-MODIFIED:20250812T134032Z
UID:10004732-1856250000-1856260800@segwinnettcoop.org
SUMMARY:Benefits Outreach
DESCRIPTION:Sponsored by Atlanta Community Food Bank\nAre You Eligible? \n\nFood Stamps\nMedicaid Assistance\nTANF\nWIC\nCAPS\nSpecial Help for Medicare Recipients\n\nDocuments to Bring: \nPhoto ID\, Birth Certificate\, Lease\, Award Letter for Social Security and/or S.S.I.\, and other unearned inform\, Pay Stubs for the last month (if applicable)\, Utility Bills\, and any Medical Bills.
URL:https://segwinnettcoop.org/event/benefits-outreach-2-2-2/2028-10-27/
LOCATION:Southeast Gwinnett Coop\, 55 Grayson Industrial Parkway\, Grayson\, GA\, 30017\, United States
CATEGORIES:Benefits and Informational
ORGANIZER;CN="Atlanta Community Food Bank":MAILTO:outreach@acfb.org
END:VEVENT
BEGIN:VEVENT
DTSTART;TZID=America/New_York:20281124T090000
DTEND;TZID=America/New_York:20281124T120000
DTSTAMP:20260422T183915
CREATED:20250812T134029Z
LAST-MODIFIED:20250812T134032Z
UID:10004733-1858669200-1858680000@segwinnettcoop.org
SUMMARY:Benefits Outreach
DESCRIPTION:Sponsored by Atlanta Community Food Bank\nAre You Eligible? \n\nFood Stamps\nMedicaid Assistance\nTANF\nWIC\nCAPS\nSpecial Help for Medicare Recipients\n\nDocuments to Bring: \nPhoto ID\, Birth Certificate\, Lease\, Award Letter for Social Security and/or S.S.I.\, and other unearned inform\, Pay Stubs for the last month (if applicable)\, Utility Bills\, and any Medical Bills.
URL:https://segwinnettcoop.org/event/benefits-outreach-2-2-2/2028-11-24/
LOCATION:Southeast Gwinnett Coop\, 55 Grayson Industrial Parkway\, Grayson\, GA\, 30017\, United States
CATEGORIES:Benefits and Informational
ORGANIZER;CN="Atlanta Community Food Bank":MAILTO:outreach@acfb.org
END:VEVENT
BEGIN:VEVENT
DTSTART;TZID=America/New_York:20281222T090000
DTEND;TZID=America/New_York:20281222T120000
DTSTAMP:20260422T183915
CREATED:20250812T134029Z
LAST-MODIFIED:20250812T134032Z
UID:10004734-1861088400-1861099200@segwinnettcoop.org
SUMMARY:Benefits Outreach
DESCRIPTION:Sponsored by Atlanta Community Food Bank\nAre You Eligible? \n\nFood Stamps\nMedicaid Assistance\nTANF\nWIC\nCAPS\nSpecial Help for Medicare Recipients\n\nDocuments to Bring: \nPhoto ID\, Birth Certificate\, Lease\, Award Letter for Social Security and/or S.S.I.\, and other unearned inform\, Pay Stubs for the last month (if applicable)\, Utility Bills\, and any Medical Bills.
URL:https://segwinnettcoop.org/event/benefits-outreach-2-2-2/2028-12-22/
LOCATION:Southeast Gwinnett Coop\, 55 Grayson Industrial Parkway\, Grayson\, GA\, 30017\, United States
CATEGORIES:Benefits and Informational
ORGANIZER;CN="Atlanta Community Food Bank":MAILTO:outreach@acfb.org
END:VEVENT
BEGIN:VEVENT
DTSTART;TZID=America/New_York:20290126T090000
DTEND;TZID=America/New_York:20290126T120000
DTSTAMP:20260422T183915
CREATED:20250812T134029Z
LAST-MODIFIED:20250812T134032Z
UID:10004735-1864112400-1864123200@segwinnettcoop.org
SUMMARY:Benefits Outreach
DESCRIPTION:Sponsored by Atlanta Community Food Bank\nAre You Eligible? \n\nFood Stamps\nMedicaid Assistance\nTANF\nWIC\nCAPS\nSpecial Help for Medicare Recipients\n\nDocuments to Bring: \nPhoto ID\, Birth Certificate\, Lease\, Award Letter for Social Security and/or S.S.I.\, and other unearned inform\, Pay Stubs for the last month (if applicable)\, Utility Bills\, and any Medical Bills.
URL:https://segwinnettcoop.org/event/benefits-outreach-2-2-2/2029-01-26/
LOCATION:Southeast Gwinnett Coop\, 55 Grayson Industrial Parkway\, Grayson\, GA\, 30017\, United States
CATEGORIES:Benefits and Informational
ORGANIZER;CN="Atlanta Community Food Bank":MAILTO:outreach@acfb.org
END:VEVENT
BEGIN:VEVENT
DTSTART;TZID=America/New_York:20290223T090000
DTEND;TZID=America/New_York:20290223T120000
DTSTAMP:20260422T183915
CREATED:20250812T134029Z
LAST-MODIFIED:20250812T134032Z
UID:10004736-1866531600-1866542400@segwinnettcoop.org
SUMMARY:Benefits Outreach
DESCRIPTION:Sponsored by Atlanta Community Food Bank\nAre You Eligible? \n\nFood Stamps\nMedicaid Assistance\nTANF\nWIC\nCAPS\nSpecial Help for Medicare Recipients\n\nDocuments to Bring: \nPhoto ID\, Birth Certificate\, Lease\, Award Letter for Social Security and/or S.S.I.\, and other unearned inform\, Pay Stubs for the last month (if applicable)\, Utility Bills\, and any Medical Bills.
URL:https://segwinnettcoop.org/event/benefits-outreach-2-2-2/2029-02-23/
LOCATION:Southeast Gwinnett Coop\, 55 Grayson Industrial Parkway\, Grayson\, GA\, 30017\, United States
CATEGORIES:Benefits and Informational
ORGANIZER;CN="Atlanta Community Food Bank":MAILTO:outreach@acfb.org
END:VEVENT
BEGIN:VEVENT
DTSTART;TZID=America/New_York:20290323T090000
DTEND;TZID=America/New_York:20290323T120000
DTSTAMP:20260422T183915
CREATED:20250812T134029Z
LAST-MODIFIED:20250812T134032Z
UID:10004737-1868950800-1868961600@segwinnettcoop.org
SUMMARY:Benefits Outreach
DESCRIPTION:Sponsored by Atlanta Community Food Bank\nAre You Eligible? \n\nFood Stamps\nMedicaid Assistance\nTANF\nWIC\nCAPS\nSpecial Help for Medicare Recipients\n\nDocuments to Bring: \nPhoto ID\, Birth Certificate\, Lease\, Award Letter for Social Security and/or S.S.I.\, and other unearned inform\, Pay Stubs for the last month (if applicable)\, Utility Bills\, and any Medical Bills.
URL:https://segwinnettcoop.org/event/benefits-outreach-2-2-2/2029-03-23/
LOCATION:Southeast Gwinnett Coop\, 55 Grayson Industrial Parkway\, Grayson\, GA\, 30017\, United States
CATEGORIES:Benefits and Informational
ORGANIZER;CN="Atlanta Community Food Bank":MAILTO:outreach@acfb.org
END:VEVENT
BEGIN:VEVENT
DTSTART;TZID=America/New_York:20290427T090000
DTEND;TZID=America/New_York:20290427T120000
DTSTAMP:20260422T183915
CREATED:20250812T134029Z
LAST-MODIFIED:20250812T134032Z
UID:10004738-1871974800-1871985600@segwinnettcoop.org
SUMMARY:Benefits Outreach
DESCRIPTION:Sponsored by Atlanta Community Food Bank\nAre You Eligible? \n\nFood Stamps\nMedicaid Assistance\nTANF\nWIC\nCAPS\nSpecial Help for Medicare Recipients\n\nDocuments to Bring: \nPhoto ID\, Birth Certificate\, Lease\, Award Letter for Social Security and/or S.S.I.\, and other unearned inform\, Pay Stubs for the last month (if applicable)\, Utility Bills\, and any Medical Bills.
URL:https://segwinnettcoop.org/event/benefits-outreach-2-2-2/2029-04-27/
LOCATION:Southeast Gwinnett Coop\, 55 Grayson Industrial Parkway\, Grayson\, GA\, 30017\, United States
CATEGORIES:Benefits and Informational
ORGANIZER;CN="Atlanta Community Food Bank":MAILTO:outreach@acfb.org
END:VEVENT
BEGIN:VEVENT
DTSTART;TZID=America/New_York:20290525T090000
DTEND;TZID=America/New_York:20290525T120000
DTSTAMP:20260422T183915
CREATED:20250812T134029Z
LAST-MODIFIED:20250812T134032Z
UID:10004739-1874394000-1874404800@segwinnettcoop.org
SUMMARY:Benefits Outreach
DESCRIPTION:Sponsored by Atlanta Community Food Bank\nAre You Eligible? \n\nFood Stamps\nMedicaid Assistance\nTANF\nWIC\nCAPS\nSpecial Help for Medicare Recipients\n\nDocuments to Bring: \nPhoto ID\, Birth Certificate\, Lease\, Award Letter for Social Security and/or S.S.I.\, and other unearned inform\, Pay Stubs for the last month (if applicable)\, Utility Bills\, and any Medical Bills.
URL:https://segwinnettcoop.org/event/benefits-outreach-2-2-2/2029-05-25/
LOCATION:Southeast Gwinnett Coop\, 55 Grayson Industrial Parkway\, Grayson\, GA\, 30017\, United States
CATEGORIES:Benefits and Informational
ORGANIZER;CN="Atlanta Community Food Bank":MAILTO:outreach@acfb.org
END:VEVENT
BEGIN:VEVENT
DTSTART;TZID=America/New_York:20290622T090000
DTEND;TZID=America/New_York:20290622T120000
DTSTAMP:20260422T183915
CREATED:20250812T134029Z
LAST-MODIFIED:20250812T134032Z
UID:10004740-1876813200-1876824000@segwinnettcoop.org
SUMMARY:Benefits Outreach
DESCRIPTION:Sponsored by Atlanta Community Food Bank\nAre You Eligible? \n\nFood Stamps\nMedicaid Assistance\nTANF\nWIC\nCAPS\nSpecial Help for Medicare Recipients\n\nDocuments to Bring: \nPhoto ID\, Birth Certificate\, Lease\, Award Letter for Social Security and/or S.S.I.\, and other unearned inform\, Pay Stubs for the last month (if applicable)\, Utility Bills\, and any Medical Bills.
URL:https://segwinnettcoop.org/event/benefits-outreach-2-2-2/2029-06-22/
LOCATION:Southeast Gwinnett Coop\, 55 Grayson Industrial Parkway\, Grayson\, GA\, 30017\, United States
CATEGORIES:Benefits and Informational
ORGANIZER;CN="Atlanta Community Food Bank":MAILTO:outreach@acfb.org
END:VEVENT
BEGIN:VEVENT
DTSTART;TZID=America/New_York:20290727T090000
DTEND;TZID=America/New_York:20290727T120000
DTSTAMP:20260422T183915
CREATED:20250812T134029Z
LAST-MODIFIED:20250812T134032Z
UID:10004741-1879837200-1879848000@segwinnettcoop.org
SUMMARY:Benefits Outreach
DESCRIPTION:Sponsored by Atlanta Community Food Bank\nAre You Eligible? \n\nFood Stamps\nMedicaid Assistance\nTANF\nWIC\nCAPS\nSpecial Help for Medicare Recipients\n\nDocuments to Bring: \nPhoto ID\, Birth Certificate\, Lease\, Award Letter for Social Security and/or S.S.I.\, and other unearned inform\, Pay Stubs for the last month (if applicable)\, Utility Bills\, and any Medical Bills.
URL:https://segwinnettcoop.org/event/benefits-outreach-2-2-2/2029-07-27/
LOCATION:Southeast Gwinnett Coop\, 55 Grayson Industrial Parkway\, Grayson\, GA\, 30017\, United States
CATEGORIES:Benefits and Informational
ORGANIZER;CN="Atlanta Community Food Bank":MAILTO:outreach@acfb.org
END:VEVENT
BEGIN:VEVENT
DTSTART;TZID=America/New_York:20290824T090000
DTEND;TZID=America/New_York:20290824T120000
DTSTAMP:20260422T183915
CREATED:20250812T134029Z
LAST-MODIFIED:20250812T134032Z
UID:10004742-1882256400-1882267200@segwinnettcoop.org
SUMMARY:Benefits Outreach
DESCRIPTION:Sponsored by Atlanta Community Food Bank\nAre You Eligible? \n\nFood Stamps\nMedicaid Assistance\nTANF\nWIC\nCAPS\nSpecial Help for Medicare Recipients\n\nDocuments to Bring: \nPhoto ID\, Birth Certificate\, Lease\, Award Letter for Social Security and/or S.S.I.\, and other unearned inform\, Pay Stubs for the last month (if applicable)\, Utility Bills\, and any Medical Bills.
URL:https://segwinnettcoop.org/event/benefits-outreach-2-2-2/2029-08-24/
LOCATION:Southeast Gwinnett Coop\, 55 Grayson Industrial Parkway\, Grayson\, GA\, 30017\, United States
CATEGORIES:Benefits and Informational
ORGANIZER;CN="Atlanta Community Food Bank":MAILTO:outreach@acfb.org
END:VEVENT
BEGIN:VEVENT
DTSTART;TZID=America/New_York:20290928T090000
DTEND;TZID=America/New_York:20290928T120000
DTSTAMP:20260422T183915
CREATED:20250812T134029Z
LAST-MODIFIED:20250812T134032Z
UID:10004743-1885280400-1885291200@segwinnettcoop.org
SUMMARY:Benefits Outreach
DESCRIPTION:Sponsored by Atlanta Community Food Bank\nAre You Eligible? \n\nFood Stamps\nMedicaid Assistance\nTANF\nWIC\nCAPS\nSpecial Help for Medicare Recipients\n\nDocuments to Bring: \nPhoto ID\, Birth Certificate\, Lease\, Award Letter for Social Security and/or S.S.I.\, and other unearned inform\, Pay Stubs for the last month (if applicable)\, Utility Bills\, and any Medical Bills.
URL:https://segwinnettcoop.org/event/benefits-outreach-2-2-2/2029-09-28/
LOCATION:Southeast Gwinnett Coop\, 55 Grayson Industrial Parkway\, Grayson\, GA\, 30017\, United States
CATEGORIES:Benefits and Informational
ORGANIZER;CN="Atlanta Community Food Bank":MAILTO:outreach@acfb.org
END:VEVENT
BEGIN:VEVENT
DTSTART;TZID=America/New_York:20291026T090000
DTEND;TZID=America/New_York:20291026T120000
DTSTAMP:20260422T183915
CREATED:20250812T134029Z
LAST-MODIFIED:20250812T134032Z
UID:10004744-1887699600-1887710400@segwinnettcoop.org
SUMMARY:Benefits Outreach
DESCRIPTION:Sponsored by Atlanta Community Food Bank\nAre You Eligible? \n\nFood Stamps\nMedicaid Assistance\nTANF\nWIC\nCAPS\nSpecial Help for Medicare Recipients\n\nDocuments to Bring: \nPhoto ID\, Birth Certificate\, Lease\, Award Letter for Social Security and/or S.S.I.\, and other unearned inform\, Pay Stubs for the last month (if applicable)\, Utility Bills\, and any Medical Bills.
URL:https://segwinnettcoop.org/event/benefits-outreach-2-2-2/2029-10-26/
LOCATION:Southeast Gwinnett Coop\, 55 Grayson Industrial Parkway\, Grayson\, GA\, 30017\, United States
CATEGORIES:Benefits and Informational
ORGANIZER;CN="Atlanta Community Food Bank":MAILTO:outreach@acfb.org
END:VEVENT
BEGIN:VEVENT
DTSTART;TZID=America/New_York:20291123T090000
DTEND;TZID=America/New_York:20291123T120000
DTSTAMP:20260422T183916
CREATED:20250812T134029Z
LAST-MODIFIED:20250812T134032Z
UID:10004745-1890118800-1890129600@segwinnettcoop.org
SUMMARY:Benefits Outreach
DESCRIPTION:Sponsored by Atlanta Community Food Bank\nAre You Eligible? \n\nFood Stamps\nMedicaid Assistance\nTANF\nWIC\nCAPS\nSpecial Help for Medicare Recipients\n\nDocuments to Bring: \nPhoto ID\, Birth Certificate\, Lease\, Award Letter for Social Security and/or S.S.I.\, and other unearned inform\, Pay Stubs for the last month (if applicable)\, Utility Bills\, and any Medical Bills.
URL:https://segwinnettcoop.org/event/benefits-outreach-2-2-2/2029-11-23/
LOCATION:Southeast Gwinnett Coop\, 55 Grayson Industrial Parkway\, Grayson\, GA\, 30017\, United States
CATEGORIES:Benefits and Informational
ORGANIZER;CN="Atlanta Community Food Bank":MAILTO:outreach@acfb.org
END:VEVENT
BEGIN:VEVENT
DTSTART;TZID=America/New_York:20291228T090000
DTEND;TZID=America/New_York:20291228T120000
DTSTAMP:20260422T183916
CREATED:20250812T134029Z
LAST-MODIFIED:20250812T134032Z
UID:10004746-1893142800-1893153600@segwinnettcoop.org
SUMMARY:Benefits Outreach
DESCRIPTION:Sponsored by Atlanta Community Food Bank\nAre You Eligible? \n\nFood Stamps\nMedicaid Assistance\nTANF\nWIC\nCAPS\nSpecial Help for Medicare Recipients\n\nDocuments to Bring: \nPhoto ID\, Birth Certificate\, Lease\, Award Letter for Social Security and/or S.S.I.\, and other unearned inform\, Pay Stubs for the last month (if applicable)\, Utility Bills\, and any Medical Bills.
URL:https://segwinnettcoop.org/event/benefits-outreach-2-2-2/2029-12-28/
LOCATION:Southeast Gwinnett Coop\, 55 Grayson Industrial Parkway\, Grayson\, GA\, 30017\, United States
CATEGORIES:Benefits and Informational
ORGANIZER;CN="Atlanta Community Food Bank":MAILTO:outreach@acfb.org
END:VEVENT
BEGIN:VEVENT
DTSTART;TZID=America/New_York:20300125T090000
DTEND;TZID=America/New_York:20300125T120000
DTSTAMP:20260422T183916
CREATED:20250812T134029Z
LAST-MODIFIED:20250812T134032Z
UID:10004747-1895562000-1895572800@segwinnettcoop.org
SUMMARY:Benefits Outreach
DESCRIPTION:Sponsored by Atlanta Community Food Bank\nAre You Eligible? \n\nFood Stamps\nMedicaid Assistance\nTANF\nWIC\nCAPS\nSpecial Help for Medicare Recipients\n\nDocuments to Bring: \nPhoto ID\, Birth Certificate\, Lease\, Award Letter for Social Security and/or S.S.I.\, and other unearned inform\, Pay Stubs for the last month (if applicable)\, Utility Bills\, and any Medical Bills.
URL:https://segwinnettcoop.org/event/benefits-outreach-2-2-2/2030-01-25/
LOCATION:Southeast Gwinnett Coop\, 55 Grayson Industrial Parkway\, Grayson\, GA\, 30017\, United States
CATEGORIES:Benefits and Informational
ORGANIZER;CN="Atlanta Community Food Bank":MAILTO:outreach@acfb.org
END:VEVENT
BEGIN:VEVENT
DTSTART;TZID=America/New_York:20300222T090000
DTEND;TZID=America/New_York:20300222T120000
DTSTAMP:20260422T183916
CREATED:20250812T134029Z
LAST-MODIFIED:20250812T134032Z
UID:10004748-1897981200-1897992000@segwinnettcoop.org
SUMMARY:Benefits Outreach
DESCRIPTION:Sponsored by Atlanta Community Food Bank\nAre You Eligible? \n\nFood Stamps\nMedicaid Assistance\nTANF\nWIC\nCAPS\nSpecial Help for Medicare Recipients\n\nDocuments to Bring: \nPhoto ID\, Birth Certificate\, Lease\, Award Letter for Social Security and/or S.S.I.\, and other unearned inform\, Pay Stubs for the last month (if applicable)\, Utility Bills\, and any Medical Bills.
URL:https://segwinnettcoop.org/event/benefits-outreach-2-2-2/2030-02-22/
LOCATION:Southeast Gwinnett Coop\, 55 Grayson Industrial Parkway\, Grayson\, GA\, 30017\, United States
CATEGORIES:Benefits and Informational
ORGANIZER;CN="Atlanta Community Food Bank":MAILTO:outreach@acfb.org
END:VEVENT
BEGIN:VEVENT
DTSTART;TZID=America/New_York:20300322T090000
DTEND;TZID=America/New_York:20300322T120000
DTSTAMP:20260422T183916
CREATED:20250812T134029Z
LAST-MODIFIED:20250812T134032Z
UID:10004749-1900400400-1900411200@segwinnettcoop.org
SUMMARY:Benefits Outreach
DESCRIPTION:Sponsored by Atlanta Community Food Bank\nAre You Eligible? \n\nFood Stamps\nMedicaid Assistance\nTANF\nWIC\nCAPS\nSpecial Help for Medicare Recipients\n\nDocuments to Bring: \nPhoto ID\, Birth Certificate\, Lease\, Award Letter for Social Security and/or S.S.I.\, and other unearned inform\, Pay Stubs for the last month (if applicable)\, Utility Bills\, and any Medical Bills.
URL:https://segwinnettcoop.org/event/benefits-outreach-2-2-2/2030-03-22/
LOCATION:Southeast Gwinnett Coop\, 55 Grayson Industrial Parkway\, Grayson\, GA\, 30017\, United States
CATEGORIES:Benefits and Informational
ORGANIZER;CN="Atlanta Community Food Bank":MAILTO:outreach@acfb.org
END:VEVENT
BEGIN:VEVENT
DTSTART;TZID=America/New_York:20300426T090000
DTEND;TZID=America/New_York:20300426T120000
DTSTAMP:20260422T183916
CREATED:20250812T134029Z
LAST-MODIFIED:20250812T134032Z
UID:10004750-1903424400-1903435200@segwinnettcoop.org
SUMMARY:Benefits Outreach
DESCRIPTION:Sponsored by Atlanta Community Food Bank\nAre You Eligible? \n\nFood Stamps\nMedicaid Assistance\nTANF\nWIC\nCAPS\nSpecial Help for Medicare Recipients\n\nDocuments to Bring: \nPhoto ID\, Birth Certificate\, Lease\, Award Letter for Social Security and/or S.S.I.\, and other unearned inform\, Pay Stubs for the last month (if applicable)\, Utility Bills\, and any Medical Bills.
URL:https://segwinnettcoop.org/event/benefits-outreach-2-2-2/2030-04-26/
LOCATION:Southeast Gwinnett Coop\, 55 Grayson Industrial Parkway\, Grayson\, GA\, 30017\, United States
CATEGORIES:Benefits and Informational
ORGANIZER;CN="Atlanta Community Food Bank":MAILTO:outreach@acfb.org
END:VEVENT
BEGIN:VEVENT
DTSTART;TZID=America/New_York:20300524T090000
DTEND;TZID=America/New_York:20300524T120000
DTSTAMP:20260422T183916
CREATED:20250812T134029Z
LAST-MODIFIED:20250812T134032Z
UID:10004751-1905843600-1905854400@segwinnettcoop.org
SUMMARY:Benefits Outreach
DESCRIPTION:Sponsored by Atlanta Community Food Bank\nAre You Eligible? \n\nFood Stamps\nMedicaid Assistance\nTANF\nWIC\nCAPS\nSpecial Help for Medicare Recipients\n\nDocuments to Bring: \nPhoto ID\, Birth Certificate\, Lease\, Award Letter for Social Security and/or S.S.I.\, and other unearned inform\, Pay Stubs for the last month (if applicable)\, Utility Bills\, and any Medical Bills.
URL:https://segwinnettcoop.org/event/benefits-outreach-2-2-2/2030-05-24/
LOCATION:Southeast Gwinnett Coop\, 55 Grayson Industrial Parkway\, Grayson\, GA\, 30017\, United States
CATEGORIES:Benefits and Informational
ORGANIZER;CN="Atlanta Community Food Bank":MAILTO:outreach@acfb.org
END:VEVENT
BEGIN:VEVENT
DTSTART;TZID=America/New_York:20300628T090000
DTEND;TZID=America/New_York:20300628T120000
DTSTAMP:20260422T183916
CREATED:20250812T134029Z
LAST-MODIFIED:20250812T134032Z
UID:10004752-1908867600-1908878400@segwinnettcoop.org
SUMMARY:Benefits Outreach
DESCRIPTION:Sponsored by Atlanta Community Food Bank\nAre You Eligible? \n\nFood Stamps\nMedicaid Assistance\nTANF\nWIC\nCAPS\nSpecial Help for Medicare Recipients\n\nDocuments to Bring: \nPhoto ID\, Birth Certificate\, Lease\, Award Letter for Social Security and/or S.S.I.\, and other unearned inform\, Pay Stubs for the last month (if applicable)\, Utility Bills\, and any Medical Bills.
URL:https://segwinnettcoop.org/event/benefits-outreach-2-2-2/2030-06-28/
LOCATION:Southeast Gwinnett Coop\, 55 Grayson Industrial Parkway\, Grayson\, GA\, 30017\, United States
CATEGORIES:Benefits and Informational
ORGANIZER;CN="Atlanta Community Food Bank":MAILTO:outreach@acfb.org
END:VEVENT
BEGIN:VEVENT
DTSTART;TZID=America/New_York:20300726T090000
DTEND;TZID=America/New_York:20300726T120000
DTSTAMP:20260422T183916
CREATED:20250812T134029Z
LAST-MODIFIED:20250812T134032Z
UID:10004753-1911286800-1911297600@segwinnettcoop.org
SUMMARY:Benefits Outreach
DESCRIPTION:Sponsored by Atlanta Community Food Bank\nAre You Eligible? \n\nFood Stamps\nMedicaid Assistance\nTANF\nWIC\nCAPS\nSpecial Help for Medicare Recipients\n\nDocuments to Bring: \nPhoto ID\, Birth Certificate\, Lease\, Award Letter for Social Security and/or S.S.I.\, and other unearned inform\, Pay Stubs for the last month (if applicable)\, Utility Bills\, and any Medical Bills.
URL:https://segwinnettcoop.org/event/benefits-outreach-2-2-2/2030-07-26/
LOCATION:Southeast Gwinnett Coop\, 55 Grayson Industrial Parkway\, Grayson\, GA\, 30017\, United States
CATEGORIES:Benefits and Informational
ORGANIZER;CN="Atlanta Community Food Bank":MAILTO:outreach@acfb.org
END:VEVENT
END:VCALENDAR